BEGIN:VCALENDAR
VERSION:2.0
PRODID:-//Dabei.digital - ECPv6.15.20//NONSGML v1.0//EN
CALSCALE:GREGORIAN
METHOD:PUBLISH
X-WR-CALNAME:Dabei.digital
X-ORIGINAL-URL:https://dabei-digital.de
X-WR-CALDESC:Veranstaltungen für Dabei.digital
REFRESH-INTERVAL;VALUE=DURATION:PT1H
X-Robots-Tag:noindex
X-PUBLISHED-TTL:PT1H
BEGIN:VTIMEZONE
TZID:UTC
BEGIN:STANDARD
TZOFFSETFROM:+0000
TZOFFSETTO:+0000
TZNAME:UTC
DTSTART:20240101T000000
END:STANDARD
END:VTIMEZONE
BEGIN:VEVENT
DTSTART;TZID=UTC:20250828T130000
DTEND;TZID=UTC:20250828T150000
DTSTAMP:20260419T192013
CREATED:20250818T115621Z
LAST-MODIFIED:20250819T081628Z
UID:10000005-1756386000-1756393200@dabei-digital.de
SUMMARY:Digitalkurs für Senior*innen - Doctolib App
DESCRIPTION:In unserem praxisnahen Workshop zeigen wir Ihnen wie Sie mit Doctolib bequem von zu Hause aus Arzttermine finden\, buchen und verwalten – ganz ohne lästige Warteschleifen. \nPerfekt für Einsteiger\, die digitale Möglichkeiten stressfrei nutzen möchten!
URL:https://dabei-digital.de/kalender/digitalkurs-fuer-seniorinnen-doctolib-app/
LOCATION:Café Via\, Bornstraße 26\, Dortmund\, 44135
ORGANIZER;CN="dabei.digital":MAILTO:dabeidigital@vmdo.de
END:VEVENT
BEGIN:VEVENT
DTSTART;TZID=UTC:20250821T130000
DTEND;TZID=UTC:20250821T150000
DTSTAMP:20260419T192013
CREATED:20250818T115340Z
LAST-MODIFIED:20250819T081611Z
UID:10000004-1755781200-1755788400@dabei-digital.de
SUMMARY:Digitalkurs für Senior*innen - Google Mail
DESCRIPTION:In unserem praxisnahen Workshop richten Sie Schritt für Schritt Ihren eigenen Gmail-Account auf dem Smartphone ein\, lernen E-Mails sicher zu versenden und Ihre Daten zu schützen. \nPerfekt für Einsteiger\, die digitale Möglichkeiten stressfrei nutzen möchten!
URL:https://dabei-digital.de/kalender/digitalkurs-fuer-seniorinnen-google-mail/
LOCATION:Café Via\, Bornstraße 26\, Dortmund\, 44135
ORGANIZER;CN="dabei.digital":MAILTO:dabeidigital@vmdo.de
END:VEVENT
END:VCALENDAR