BEGIN:VCALENDAR
VERSION:2.0
PRODID:-//Dabei.digital - ECPv6.15.20//NONSGML v1.0//EN
CALSCALE:GREGORIAN
METHOD:PUBLISH
X-WR-CALNAME:Dabei.digital
X-ORIGINAL-URL:https://dabei-digital.de
X-WR-CALDESC:Veranstaltungen für Dabei.digital
REFRESH-INTERVAL;VALUE=DURATION:PT1H
X-Robots-Tag:noindex
X-PUBLISHED-TTL:PT1H
BEGIN:VTIMEZONE
TZID:UTC
BEGIN:STANDARD
TZOFFSETFROM:+0000
TZOFFSETTO:+0000
TZNAME:UTC
DTSTART:20250101T000000
END:STANDARD
END:VTIMEZONE
BEGIN:VEVENT
DTSTART;TZID=UTC:20260423T140000
DTEND;TZID=UTC:20260423T153000
DTSTAMP:20260419T155322
CREATED:20260212T111607Z
LAST-MODIFIED:20260223T075223Z
UID:10000330-1776952800-1776958200@dabei-digital.de
SUMMARY:Workshop für Drittstaatsangehörige: Bundesagentur für Arbeit – Sicher im Umgang mit dem Online-System
DESCRIPTION:Du möchtest die Online-Angebote der Bundesagentur für Arbeit sicher und selbstständig nutzen? In diesem Workshop zeigen wir dir Schritt für Schritt\, wie du ein Online-Konto erstellst und dich korrekt arbeitslos meldest. Außerdem lernst du wichtige Funktionen des Portals kennen und erfährst\, wie du typische Fehler vermeidest und deine Rechte im Blick behältst.
URL:https://dabei-digital.de/kalender/workshop-fuer-drittstaatsangehoerige-bundesagentur-fuer-arbeit-sicher-im-umgang-mit-dem-online-system/
LOCATION:vkii ruhrbezirk e.V.\, Emil-Moog-Platz 7\, Dortmund\, 44137
CATEGORIES:Workshop
ORGANIZER;CN="vkii ruhrbezirk e.V.":MAILTO:m.ayossa@vkii-ruhrbezirk.de
END:VEVENT
BEGIN:VEVENT
DTSTART;TZID=UTC:20260423T180000
DTEND;TZID=UTC:20260423T200000
DTSTAMP:20260419T155322
CREATED:20260217T092329Z
LAST-MODIFIED:20260223T075051Z
UID:10000344-1776967200-1776974400@dabei-digital.de
SUMMARY:Workshop für Drittstaatsangehörige: Office Workshop - Word\, Excel und PowerPoint - Tag 3
DESCRIPTION:Du möchtest endlich sicher mit den wichtigsten Office-Programmen arbeiten? In diesem dreitägigen Workshop lernst du Schritt für Schritt\, wie du Dokumente erstellst\, Tabellen mit Berechnungen anlegst und ansprechende Präsentationen gestaltest.\n\n\n\nKeine Vorkenntnisse nötig – wir starten bei den Grundlagen und arbeiten in deinem Tempo!\n\n\n\n3 Tage jeweils 2 Stunden\n\nAnmeldung: dabeidigital@vmdo.de oder 0155 634 928 58
URL:https://dabei-digital.de/kalender/workshop-fuer-drittstaatsangehoerige-office-workshop-word-excel-und-powerpoint-tag-3/
LOCATION:Haus der Vielfalt\, Zur Vielfalt 21\, Dortmund\, 44147\, Germany
CATEGORIES:Workshop
ORGANIZER;CN="dabei.digital":MAILTO:dabeidigital@vmdo.de
END:VEVENT
END:VCALENDAR