BEGIN:VCALENDAR
VERSION:2.0
PRODID:-//Dabei.digital - ECPv6.15.20//NONSGML v1.0//EN
CALSCALE:GREGORIAN
METHOD:PUBLISH
X-ORIGINAL-URL:https://dabei-digital.de
X-WR-CALDESC:Veranstaltungen für Dabei.digital
REFRESH-INTERVAL;VALUE=DURATION:PT1H
X-Robots-Tag:noindex
X-PUBLISHED-TTL:PT1H
BEGIN:VTIMEZONE
TZID:Europe/Berlin
BEGIN:DAYLIGHT
TZOFFSETFROM:+0100
TZOFFSETTO:+0200
TZNAME:CEST
DTSTART:20250330T010000
END:DAYLIGHT
BEGIN:STANDARD
TZOFFSETFROM:+0200
TZOFFSETTO:+0100
TZNAME:CET
DTSTART:20251026T010000
END:STANDARD
BEGIN:DAYLIGHT
TZOFFSETFROM:+0100
TZOFFSETTO:+0200
TZNAME:CEST
DTSTART:20260329T010000
END:DAYLIGHT
BEGIN:STANDARD
TZOFFSETFROM:+0200
TZOFFSETTO:+0100
TZNAME:CET
DTSTART:20261025T010000
END:STANDARD
BEGIN:DAYLIGHT
TZOFFSETFROM:+0100
TZOFFSETTO:+0200
TZNAME:CEST
DTSTART:20270328T010000
END:DAYLIGHT
BEGIN:STANDARD
TZOFFSETFROM:+0200
TZOFFSETTO:+0100
TZNAME:CET
DTSTART:20271031T010000
END:STANDARD
END:VTIMEZONE
BEGIN:VEVENT
DTSTART;TZID=Europe/Berlin:20260420T183000
DTEND;TZID=Europe/Berlin:20260420T200000
DTSTAMP:20260419T215614
CREATED:20260408T113951Z
LAST-MODIFIED:20260408T113952Z
UID:10000355-1776709800-1776715200@dabei-digital.de
SUMMARY:Workshop für Migrant*innenorganisationen: Effiziente E-Mail-Verwaltung im Verein
DESCRIPTION:Als Ehrenamtliche*r bist du oft der erste Ansprechpartner für Mitglieder\, Partner und Öffentlichkeit. Doch was passiert mit all den E-Mails\, wenn du nicht da bist? Wer hat Zugriff? Wie archiviert man richtig? Gehen manche E-Mails verloren oder niemand weiß\, wer antworten muss? \n\n\n\nIn diesem Workshop bekommst du praktische Tipps und Lösungen und wir beantworten alle deine Fragen über die E-Mails. \n\n\n\nAnmeldung: l.villieras-guepey@vmdo.de
URL:https://dabei-digital.de/kalender/workshop-fuer-migrantinnenorganisationen-effiziente-e-mail-verwaltung-im-verein/
LOCATION:Projekträume Leuthardstraße\, Leuthardstraße 1\, Dortmund\, 44135\, Germany
ORGANIZER;CN="dabei.digital":MAILTO:dabeidigital@vmdo.de
END:VEVENT
END:VCALENDAR