BEGIN:VCALENDAR
VERSION:2.0
PRODID:-//Dabei.digital - ECPv6.15.20//NONSGML v1.0//EN
CALSCALE:GREGORIAN
METHOD:PUBLISH
X-ORIGINAL-URL:https://dabei-digital.de
X-WR-CALDESC:Veranstaltungen für Dabei.digital
REFRESH-INTERVAL;VALUE=DURATION:PT1H
X-Robots-Tag:noindex
X-PUBLISHED-TTL:PT1H
BEGIN:VTIMEZONE
TZID:Europe/Berlin
BEGIN:DAYLIGHT
TZOFFSETFROM:+0100
TZOFFSETTO:+0200
TZNAME:CEST
DTSTART:20250330T010000
END:DAYLIGHT
BEGIN:STANDARD
TZOFFSETFROM:+0200
TZOFFSETTO:+0100
TZNAME:CET
DTSTART:20251026T010000
END:STANDARD
BEGIN:DAYLIGHT
TZOFFSETFROM:+0100
TZOFFSETTO:+0200
TZNAME:CEST
DTSTART:20260329T010000
END:DAYLIGHT
BEGIN:STANDARD
TZOFFSETFROM:+0200
TZOFFSETTO:+0100
TZNAME:CET
DTSTART:20261025T010000
END:STANDARD
BEGIN:DAYLIGHT
TZOFFSETFROM:+0100
TZOFFSETTO:+0200
TZNAME:CEST
DTSTART:20270328T010000
END:DAYLIGHT
BEGIN:STANDARD
TZOFFSETFROM:+0200
TZOFFSETTO:+0100
TZNAME:CET
DTSTART:20271031T010000
END:STANDARD
END:VTIMEZONE
BEGIN:VEVENT
DTSTART;TZID=Europe/Berlin:20260415T170000
DTEND;TZID=Europe/Berlin:20260415T183000
DTSTAMP:20260419T202715
CREATED:20260312T104952Z
LAST-MODIFIED:20260416T083130Z
UID:10000350-1776272400-1776277800@dabei-digital.de
SUMMARY:Workshop für Drittstaatsangehörige: Mobilität in Dortmund – Die Bahn App
DESCRIPTION:Züge\, Verbindungen und Tickets digital im Blick behalten? In diesem Workshop zeigen wir dir\, wie du die DB-App einfach und sicher nutzt. Du lernst\, Verbindungen zu suchen\, Tickets zu kaufen\, Verspätungen zu prüfen und wichtige Funktionen der App im Alltag einzusetzen. Mit praktischen Tipps bist du in Dortmund und darüber hinaus entspannter unterwegs. \n\n\n\nBitte melde dich vorher per E-Mail an: dabeidigital@vmdo.de
URL:https://dabei-digital.de/kalender/workshop-fuer-drittstaatsangehoerige-mobilitaet-in-dortmund-die-bahn-app-2/
LOCATION:DAKME e.V.\, Körnebachstraße 49-51\, Dortmund\, 44143\, Germany
ATTACH;FMTTYPE=image/png:https://dabei-digital.de/wp-content/uploads/2026/03/Workshop-fuer-Drittstaatsangehoerige-Mobilitaet-in-Dortmund-–-Die-Bahn-App.png
ORGANIZER;CN="DAKME e.V.":MAILTO:demet.karaca.dakme@gmail.com
END:VEVENT
END:VCALENDAR