BEGIN:VCALENDAR
VERSION:2.0
PRODID:-//Dabei.digital - ECPv6.15.20//NONSGML v1.0//EN
CALSCALE:GREGORIAN
METHOD:PUBLISH
X-WR-CALNAME:Dabei.digital
X-ORIGINAL-URL:https://dabei-digital.de
X-WR-CALDESC:Veranstaltungen für Dabei.digital
REFRESH-INTERVAL;VALUE=DURATION:PT1H
X-Robots-Tag:noindex
X-PUBLISHED-TTL:PT1H
BEGIN:VTIMEZONE
TZID:UTC
BEGIN:STANDARD
TZOFFSETFROM:+0000
TZOFFSETTO:+0000
TZNAME:UTC
DTSTART:20250101T000000
END:STANDARD
END:VTIMEZONE
BEGIN:VEVENT
DTSTART;TZID=UTC:20260402T140000
DTEND;TZID=UTC:20260402T153000
DTSTAMP:20260419T142040
CREATED:20260212T111340Z
LAST-MODIFIED:20260401T082723Z
UID:10000327-1775138400-1775143800@dabei-digital.de
SUMMARY:Workshop für Drittstaatsangehörige: Digitaler Schutz von Konten und Daten
DESCRIPTION:Wie schützt du deine Online-Konten vor Betrug und Datenmissbrauch? In diesem Workshop starten wir mit konkreten Beispielen von Online-Betrug und erklären anschließend die wichtigsten Grundlagen zu sicheren Passwörtern\, Zwei-Faktor-Authentifizierung (2FA) und Datenschutz. \nIm Praxisteil überprüfst und verbesserst du dein eigenes Passwort. Zum Abschluss erhältst du eine praktische Checkliste „Digitale Sicherheit“ für deinen Alltag und deinen Verein.
URL:https://dabei-digital.de/kalender/workshop-fuer-drittstaatsangehoerige-digitaler-schutz-von-konten-und-daten/
LOCATION:vkii ruhrbezirk e.V.\, Emil-Moog-Platz 7\, Dortmund\, 44137
CATEGORIES:Workshop
ORGANIZER;CN="vkii ruhrbezirk e.V.":MAILTO:m.ayossa@vkii-ruhrbezirk.de
END:VEVENT
END:VCALENDAR