BEGIN:VCALENDAR
VERSION:2.0
PRODID:-//Dabei.digital - ECPv6.15.20//NONSGML v1.0//EN
CALSCALE:GREGORIAN
METHOD:PUBLISH
X-WR-CALNAME:Dabei.digital
X-ORIGINAL-URL:https://dabei-digital.de
X-WR-CALDESC:Veranstaltungen für Dabei.digital
REFRESH-INTERVAL;VALUE=DURATION:PT1H
X-Robots-Tag:noindex
X-PUBLISHED-TTL:PT1H
BEGIN:VTIMEZONE
TZID:Europe/Berlin
BEGIN:DAYLIGHT
TZOFFSETFROM:+0100
TZOFFSETTO:+0200
TZNAME:CEST
DTSTART:20250330T010000
END:DAYLIGHT
BEGIN:STANDARD
TZOFFSETFROM:+0200
TZOFFSETTO:+0100
TZNAME:CET
DTSTART:20251026T010000
END:STANDARD
BEGIN:DAYLIGHT
TZOFFSETFROM:+0100
TZOFFSETTO:+0200
TZNAME:CEST
DTSTART:20260329T010000
END:DAYLIGHT
BEGIN:STANDARD
TZOFFSETFROM:+0200
TZOFFSETTO:+0100
TZNAME:CET
DTSTART:20261025T010000
END:STANDARD
BEGIN:DAYLIGHT
TZOFFSETFROM:+0100
TZOFFSETTO:+0200
TZNAME:CEST
DTSTART:20270328T010000
END:DAYLIGHT
BEGIN:STANDARD
TZOFFSETFROM:+0200
TZOFFSETTO:+0100
TZNAME:CET
DTSTART:20271031T010000
END:STANDARD
END:VTIMEZONE
BEGIN:VEVENT
DTSTART;TZID=Europe/Berlin:20260325T170000
DTEND;TZID=Europe/Berlin:20260325T183000
DTSTAMP:20260419T155459
CREATED:20260312T104822Z
LAST-MODIFIED:20260312T104824Z
UID:10000349-1774458000-1774463400@dabei-digital.de
SUMMARY:Workshop für Drittstaatsangehörige: Bürgerdienste online nutzen
DESCRIPTION:Formulare\, Termine und Anträge online erledigen? In diesem Workshop zeigen wir dir\, wie du digitale Bürgerdienste sicher und unkompliziert nutzt. Du lernst\, wo du die richtigen Angebote findest\, wie Online-Termine funktionieren und worauf du beim Ausfüllen von Formularen achten solltest. Praktische Tipps helfen dir\, Zeit zu sparen und Behördengänge besser vorzubereiten. \n\n\n\nBitte melde dich vorher per E-Mail an: dabeidigital@vmdo.de
URL:https://dabei-digital.de/kalender/workshop-fuer-drittstaatsangehoerige-buergerdienste-online-nutzen-2/
LOCATION:DAKME e.V.\, Körnebachstraße 49-51\, Dortmund\, 44143\, Germany
ORGANIZER;CN="DAKME e.V.":MAILTO:demet.karaca.dakme@gmail.com
END:VEVENT
END:VCALENDAR