BEGIN:VCALENDAR
VERSION:2.0
PRODID:-//Dabei.digital - ECPv6.15.20//NONSGML v1.0//EN
CALSCALE:GREGORIAN
METHOD:PUBLISH
X-WR-CALNAME:Dabei.digital
X-ORIGINAL-URL:https://dabei-digital.de
X-WR-CALDESC:Veranstaltungen für Dabei.digital
REFRESH-INTERVAL;VALUE=DURATION:PT1H
X-Robots-Tag:noindex
X-PUBLISHED-TTL:PT1H
BEGIN:VTIMEZONE
TZID:UTC
BEGIN:STANDARD
TZOFFSETFROM:+0000
TZOFFSETTO:+0000
TZNAME:UTC
DTSTART:20250101T000000
END:STANDARD
END:VTIMEZONE
BEGIN:VEVENT
DTSTART;TZID=UTC:20260319T140000
DTEND;TZID=UTC:20260319T153000
DTSTAMP:20260419T155459
CREATED:20260212T111259Z
LAST-MODIFIED:20260223T082558Z
UID:10000326-1773928800-1773934200@dabei-digital.de
SUMMARY:Workshop für Drittstaatsangehörige: Digitale Gesundheitsangebote nutzen
DESCRIPTION:Arzttermine online buchen oder Gesundheits-Apps nutzen? In diesem Workshop zeigen wir dir\, wie Arztportale und Gesundheits-Apps funktionieren und wie du Online-Termine unkompliziert vereinbarst. Außerdem sprechen wir darüber\, wie du deine Gesundheitsdaten besser verstehst und worauf du beim Datenschutz achten solltest. Praktisch erklärt und direkt anwendbar – für mehr Sicherheit im digitalen Gesundheitsalltag.
URL:https://dabei-digital.de/kalender/workshop-fuer-drittstaatsangehoerige-digitale-gesundheitsangebote-nutzen/
LOCATION:vkii ruhrbezirk e.V.\, Emil-Moog-Platz 7\, Dortmund\, 44137
CATEGORIES:Workshop
ORGANIZER;CN="vkii ruhrbezirk e.V.":MAILTO:m.ayossa@vkii-ruhrbezirk.de
END:VEVENT
BEGIN:VEVENT
DTSTART;TZID=UTC:20260319T180000
DTEND;TZID=UTC:20260319T200000
DTSTAMP:20260419T155459
CREATED:20260217T091733Z
LAST-MODIFIED:20260223T082552Z
UID:10000340-1773943200-1773950400@dabei-digital.de
SUMMARY:Workshop für Drittstaatsangehörige: Windows-Seminar für Anfänger - Tag 2
DESCRIPTION:Du möchtest lernen\, wie man mit Windows umgeht? In diesem Seminar lernst du an drei Tagen die wichtigsten Grundlagen rund um Betriebssysteme und die Windows-Grundlagen: vom Einrichten deines Computers über die Dateiverwaltung und die Organisation von Dateien und Ordnern bis hin zur Nutzung wichtiger Windows-Programme und dem sicheren Surfen mit einem Browser im Internet. \nSchritt für Schritt zeigen wir dir\, wie ein Betriebssystem funktioniert\, wie du dich sicher in Windows bewegst und alltägliche Aufgaben selbstständig erledigst. Das Seminar richtet sich an absolute Anfänger – keine Vorkenntnisse erforderlich! \nAn 3 Tagen jeweils 2 Stunden! \nAnmeldung: dabeidigital@vmdo.de oder 0155 634 928 58
URL:https://dabei-digital.de/kalender/workshop-fuer-drittstaatsangehoerige-windows-seminar-fuer-anfaenger-tag-2/
LOCATION:Haus der Vielfalt\, Zur Vielfalt 21\, Dortmund\, 44147\, Germany
CATEGORIES:Workshop
ORGANIZER;CN="dabei.digital":MAILTO:dabeidigital@vmdo.de
END:VEVENT
END:VCALENDAR