BEGIN:VCALENDAR
VERSION:2.0
PRODID:-//Dabei.digital - ECPv6.15.20//NONSGML v1.0//EN
CALSCALE:GREGORIAN
METHOD:PUBLISH
X-WR-CALNAME:Dabei.digital
X-ORIGINAL-URL:https://dabei-digital.de
X-WR-CALDESC:Veranstaltungen für Dabei.digital
REFRESH-INTERVAL;VALUE=DURATION:PT1H
X-Robots-Tag:noindex
X-PUBLISHED-TTL:PT1H
BEGIN:VTIMEZONE
TZID:UTC
BEGIN:STANDARD
TZOFFSETFROM:+0000
TZOFFSETTO:+0000
TZNAME:UTC
DTSTART:20250101T000000
END:STANDARD
END:VTIMEZONE
BEGIN:VEVENT
DTSTART;TZID=UTC:20260312T140000
DTEND;TZID=UTC:20260312T153000
DTSTAMP:20260419T142106
CREATED:20260212T111104Z
LAST-MODIFIED:20260223T114410Z
UID:10000325-1773324000-1773329400@dabei-digital.de
SUMMARY:Workshop für Drittstaatsangehörige: Online gemeinsam arbeiten (Dokumente & Kalender)
DESCRIPTION:Gemeinsam an Texten arbeiten und Termine im Blick behalten auch wenn ihr nicht am selben Ort seid? In diesem Workshop zeigen wir dir\, wie du Online-Dokumente gemeinsam bearbeitest\, Kommentare nutzt und verschiedene Versionen nachvollziehst. Außerdem lernst du\, Kalender zu teilen und Termine im Team zu koordinieren. In einer kleinen Gruppenaufgabe probierst du alles direkt aus – praxisnah und leicht verständlich für deinen Vereinsalltag.
URL:https://dabei-digital.de/kalender/workshop-fuer-drittstaatsangehoerige-online-gemeinsam-arbeiten-dokumente-kalender/
LOCATION:vkii ruhrbezirk e.V.\, Emil-Moog-Platz 7\, Dortmund\, 44137
CATEGORIES:Workshop
ORGANIZER;CN="vkii ruhrbezirk e.V.":MAILTO:m.ayossa@vkii-ruhrbezirk.de
END:VEVENT
BEGIN:VEVENT
DTSTART;TZID=UTC:20260312T180000
DTEND;TZID=UTC:20260312T200000
DTSTAMP:20260419T142106
CREATED:20260217T091643Z
LAST-MODIFIED:20260223T090456Z
UID:10000339-1773338400-1773345600@dabei-digital.de
SUMMARY:Workshop für Drittstaatsangehörige: Windows-Seminar für Anfänger - Tag 1
DESCRIPTION:Du möchtest lernen\, wie man mit Windows umgeht? In diesem Seminar lernst du an drei Tagen die wichtigsten Grundlagen rund um Betriebssysteme und die Windows-Grundlagen: vom Einrichten deines Computers über die Dateiverwaltung und die Organisation von Dateien und Ordnern bis hin zur Nutzung wichtiger Windows-Programme und dem sicheren Surfen mit einem Browser im Internet. \nSchritt für Schritt zeigen wir dir\, wie ein Betriebssystem funktioniert\, wie du dich sicher in Windows bewegst und alltägliche Aufgaben selbstständig erledigst. Das Seminar richtet sich an absolute Anfänger – keine Vorkenntnisse erforderlich! \nAn 3 Tagen jeweils 2 Stunden! \nAnmeldung: dabeidigital@vmdo.de oder 0155 634 928 58
URL:https://dabei-digital.de/kalender/workshop-fuer-drittstaatsangehoerige-windows-seminar-fuer-anfaenger-tag-1/
LOCATION:Haus der Vielfalt\, Zur Vielfalt 21\, Dortmund\, 44147\, Germany
CATEGORIES:Workshop
ORGANIZER;CN="dabei.digital":MAILTO:dabeidigital@vmdo.de
END:VEVENT
END:VCALENDAR