BEGIN:VCALENDAR
VERSION:2.0
PRODID:-//Dabei.digital - ECPv6.15.20//NONSGML v1.0//EN
CALSCALE:GREGORIAN
METHOD:PUBLISH
X-WR-CALNAME:Dabei.digital
X-ORIGINAL-URL:https://dabei-digital.de
X-WR-CALDESC:Veranstaltungen für Dabei.digital
REFRESH-INTERVAL;VALUE=DURATION:PT1H
X-Robots-Tag:noindex
X-PUBLISHED-TTL:PT1H
BEGIN:VTIMEZONE
TZID:UTC
BEGIN:STANDARD
TZOFFSETFROM:+0000
TZOFFSETTO:+0000
TZNAME:UTC
DTSTART:20250101T000000
END:STANDARD
END:VTIMEZONE
BEGIN:VEVENT
DTSTART;TZID=UTC:20260311T153000
DTEND;TZID=UTC:20260311T170000
DTSTAMP:20260419T155459
CREATED:20260126T112736Z
LAST-MODIFIED:20260223T114521Z
UID:10000316-1773243000-1773248400@dabei-digital.de
SUMMARY:Smartphonesprechstunde in Kooperation mit GrünBau
DESCRIPTION:Hast du Schwierigkeiten im Umgang mit deinen Smartphone? In Kooperation mit GrünBau helfen wir dabei dein Smartphone richtig zu nutzen.
URL:https://dabei-digital.de/kalender/smartphonesprechstunde-in-kooperation-mit-gruenbau-2/
LOCATION:GrünBau – Heimathafen\, Speicherstraße 15\, Dortmund\, 44147\, Germany
CATEGORIES:Sprechstunde
ORGANIZER;CN="dabei.digital":MAILTO:dabeidigital@vmdo.de
END:VEVENT
BEGIN:VEVENT
DTSTART;TZID=UTC:20260311T183000
DTEND;TZID=UTC:20260311T200000
DTSTAMP:20260419T155459
CREATED:20260212T120301Z
LAST-MODIFIED:20260223T114505Z
UID:10000335-1773253800-1773259200@dabei-digital.de
SUMMARY:Workshop für Migrant*innenorganisationen: Alles über PDF-Dokumente
DESCRIPTION:Man braucht PDF-Dokumente ziemlich oft im Alltag – Formulare ausfüllen\, Dokumente schicken\, usw. Deswegen lernen wir in diesem Workshop\, wie man ein PDF erstellt\, bearbeitet\, unterschreibt und teilt. \nDer Workshop richtet sich an Haupt- und Ehrenamtliche in Migrant*innenorganisationen. \nAnmeldung bei: l.villieras-guepey@vmdo.de
URL:https://dabei-digital.de/kalender/workshop-fuer-migrantinnenorganisationen-alles-ueber-pdf-dokumente/
LOCATION:Haus der Vielfalt\, Zur Vielfalt 21\, Dortmund\, 44147\, Germany
CATEGORIES:Workshop
ORGANIZER;CN="dabei.digital":MAILTO:dabeidigital@vmdo.de
END:VEVENT
END:VCALENDAR