BEGIN:VCALENDAR
VERSION:2.0
PRODID:-//Dabei.digital - ECPv6.15.20//NONSGML v1.0//EN
CALSCALE:GREGORIAN
METHOD:PUBLISH
X-ORIGINAL-URL:https://dabei-digital.de
X-WR-CALDESC:Veranstaltungen für Dabei.digital
REFRESH-INTERVAL;VALUE=DURATION:PT1H
X-Robots-Tag:noindex
X-PUBLISHED-TTL:PT1H
BEGIN:VTIMEZONE
TZID:UTC
BEGIN:STANDARD
TZOFFSETFROM:+0000
TZOFFSETTO:+0000
TZNAME:UTC
DTSTART:20250101T000000
END:STANDARD
END:VTIMEZONE
BEGIN:VEVENT
DTSTART;TZID=UTC:20260310T173000
DTEND;TZID=UTC:20260310T200000
DTSTAMP:20260419T142318
CREATED:20260129T124530Z
LAST-MODIFIED:20260223T114530Z
UID:10000323-1773163800-1773172800@dabei-digital.de
SUMMARY:Webseitensprechstunde für Migrant*innenorganisationen
DESCRIPTION:Du hast Probleme mit der Website deines Vereines? In unserer Webseitensprechstunde helfen wir dir in einer einstündigen Beratung ganz unkompliziert und gehen direkt auf deine Fragen ein. Egal ob es um Inhalte\, Struktur\, Technik oder kleine Probleme im Hintergrund geht: Komm einfach mit deiner Website vorbei\, und wir schauen gemeinsam drauf. Du bekommst sofort praktische Hilfe und Tipps\, damit deine Seite genau so funktioniert\, wie du es brauchst. \n\n\nDienstag\, 10.03.2026\, 17:30 – 18:30 Uhr\n\n\n\nDienstag\, 10.03.2026\, 19:00 – 20:00 Uhr\n\n\nWähle einfach einen Zeitslot aus und melde dich per E-Mail an: f.kirchhoff@vmdo.de
URL:https://dabei-digital.de/kalender/webseitensprechstunde-fuer-migrantinnenorganisationen-6/
LOCATION:Projekträume Leuthardstraße\, Leuthardstraße 1\, Dortmund\, 44135\, Germany
CATEGORIES:Sprechstunde
ORGANIZER;CN="dabei.digital":MAILTO:dabeidigital@vmdo.de
END:VEVENT
END:VCALENDAR