BEGIN:VCALENDAR
VERSION:2.0
PRODID:-//Dabei.digital - ECPv6.15.20//NONSGML v1.0//EN
CALSCALE:GREGORIAN
METHOD:PUBLISH
X-WR-CALNAME:Dabei.digital
X-ORIGINAL-URL:https://dabei-digital.de
X-WR-CALDESC:Veranstaltungen für Dabei.digital
REFRESH-INTERVAL;VALUE=DURATION:PT1H
X-Robots-Tag:noindex
X-PUBLISHED-TTL:PT1H
BEGIN:VTIMEZONE
TZID:UTC
BEGIN:STANDARD
TZOFFSETFROM:+0000
TZOFFSETTO:+0000
TZNAME:UTC
DTSTART:20250101T000000
END:STANDARD
END:VTIMEZONE
BEGIN:VEVENT
DTSTART;TZID=UTC:20260306T180000
DTEND;TZID=UTC:20260306T193000
DTSTAMP:20260419T154308
CREATED:20260212T120127Z
LAST-MODIFIED:20260223T114555Z
UID:10000333-1772820000-1772825400@dabei-digital.de
SUMMARY:Workshop für Migrant*innenorganisationen: Posting Boost
DESCRIPTION:In diesem Workshop stellt Demet Karaca Posting Boost vor – ein KI-gestütztes Social-Media-Platform das Organisationen hilft\, Beiträge schneller zu planen\, zu erstellen und über mehrere Kanäle zu veröffentlichen.\nDer Workshop zeigt praxisnah\, wie Sie mit wenigen Schritten Ihre Social-Media-Arbeit vereinfachen und Zeit sparen können. Für teilnehmende Organisationen steht das Tool 6 Monate lang kostenlos zur Verfügung. \nDer Workshop richtet sich an Haupt- und Ehrenamtliche in Migrant*innenorganisationen. \nAnmeldung bei: l.villieras-guepey@vmdo.de
URL:https://dabei-digital.de/kalender/workshop-fuer-migrantinnenorganisationen-posting-boost/
LOCATION:Haus der Vielfalt\, Zur Vielfalt 21\, Dortmund\, 44147\, Germany
CATEGORIES:Workshop
ORGANIZER;CN="dabei.digital":MAILTO:dabeidigital@vmdo.de
END:VEVENT
END:VCALENDAR