BEGIN:VCALENDAR
VERSION:2.0
PRODID:-//Dabei.digital - ECPv6.15.20//NONSGML v1.0//EN
CALSCALE:GREGORIAN
METHOD:PUBLISH
X-WR-CALNAME:Dabei.digital
X-ORIGINAL-URL:https://dabei-digital.de
X-WR-CALDESC:Veranstaltungen für Dabei.digital
REFRESH-INTERVAL;VALUE=DURATION:PT1H
X-Robots-Tag:noindex
X-PUBLISHED-TTL:PT1H
BEGIN:VTIMEZONE
TZID:UTC
BEGIN:STANDARD
TZOFFSETFROM:+0000
TZOFFSETTO:+0000
TZNAME:UTC
DTSTART:20250101T000000
END:STANDARD
END:VTIMEZONE
BEGIN:VEVENT
DTSTART;TZID=UTC:20260305T140000
DTEND;TZID=UTC:20260305T153000
DTSTAMP:20260419T142106
CREATED:20260212T111016Z
LAST-MODIFIED:20260223T114601Z
UID:10000324-1772719200-1772724600@dabei-digital.de
SUMMARY:Workshop für Drittstaatsangehörige: Cloud-Dienste einfach erklärt
DESCRIPTION:Was ist eigentlich eine Cloud und wie kannst du sie sinnvoll nutzen? In diesem Workshop erklären wir dir verständlich die Grundlagen\, sprechen über Vor- und Nachteile und zeigen dir Schritt für Schritt\, wie du Dateien hochlädst und mit anderen teilst. Außerdem lernst du wichtige Sicherheitsregeln kennen\, damit deine Daten gut geschützt bleiben. Praktisch\, klar und direkt anwendbar im Alltag oder im Verein.
URL:https://dabei-digital.de/kalender/workshop-fuer-drittstaatsangehoerige-cloud-dienste-einfach-erklaert/
LOCATION:vkii ruhrbezirk e.V.\, Emil-Moog-Platz 7\, Dortmund\, 44137
CATEGORIES:Workshop
ORGANIZER;CN="vkii ruhrbezirk e.V.":MAILTO:m.ayossa@vkii-ruhrbezirk.de
END:VEVENT
END:VCALENDAR