BEGIN:VCALENDAR
VERSION:2.0
PRODID:-//Dabei.digital - ECPv6.15.20//NONSGML v1.0//EN
CALSCALE:GREGORIAN
METHOD:PUBLISH
X-ORIGINAL-URL:https://dabei-digital.de
X-WR-CALDESC:Veranstaltungen für Dabei.digital
REFRESH-INTERVAL;VALUE=DURATION:PT1H
X-Robots-Tag:noindex
X-PUBLISHED-TTL:PT1H
BEGIN:VTIMEZONE
TZID:UTC
BEGIN:STANDARD
TZOFFSETFROM:+0000
TZOFFSETTO:+0000
TZNAME:UTC
DTSTART:20250101T000000
END:STANDARD
END:VTIMEZONE
BEGIN:VEVENT
DTSTART;TZID=UTC:20260226T110000
DTEND;TZID=UTC:20260226T123000
DTSTAMP:20260421T162834
CREATED:20251215T095125Z
LAST-MODIFIED:20260223T114648Z
UID:10000246-1772103600-1772109000@dabei-digital.de
SUMMARY:Workshop für Drittstaatsangehörige: Termine online buchen
DESCRIPTION:Möchtest du lernen\, wie du Behördentermine online vereinbarst und Formulare sicher herunter- oder hochlädst? In dieser Workshopreihe zeigen wir dir\, wie du das Bürgerportal richtig nutzt und wichtige Schritte digital erledigst. So sparst du Zeit – und gewinnst mehr Sicherheit im Umgang mit Online-Behörden. \nBitte melde dich vorher per E-Mail an: dabeidigital@vmdo.de
URL:https://dabei-digital.de/kalender/workshop-fuer-drittstaatsangehoerige-termine-online-buchen-2/
LOCATION:Haus der Vielfalt\, Zur Vielfalt 21\, Dortmund\, 44147\, Germany
CATEGORIES:Workshop
ORGANIZER;CN="dabei.digital":MAILTO:dabeidigital@vmdo.de
END:VEVENT
BEGIN:VEVENT
DTSTART;TZID=UTC:20260226T110000
DTEND;TZID=UTC:20260226T130000
DTSTAMP:20260421T162834
CREATED:20260114T111940Z
LAST-MODIFIED:20260223T114641Z
UID:10000308-1772103600-1772110800@dabei-digital.de
SUMMARY:Offene Sprechstunde: Haus der Vielfalt
DESCRIPTION:Unsere offene Sprechstunde für die digitale Beratung für Drittstaatsangehörige und Migrant*innen im Haus der Vielfalt.
URL:https://dabei-digital.de/kalender/offene-sprechstunde-haus-der-vielfalt-43/
LOCATION:Haus der Vielfalt\, Zur Vielfalt 21\, Dortmund\, 44147\, Germany
CATEGORIES:Sprechstunde
ORGANIZER;CN="dabei.digital":MAILTO:dabeidigital@vmdo.de
END:VEVENT
BEGIN:VEVENT
DTSTART;TZID=UTC:20260226T113000
DTEND;TZID=UTC:20260226T133000
DTSTAMP:20260421T162834
CREATED:20260114T110926Z
LAST-MODIFIED:20260223T114632Z
UID:10000300-1772105400-1772112600@dabei-digital.de
SUMMARY:Offene Sprechstunde: vkii ruhrbezirk e.V.
DESCRIPTION:Unsere Öffnungszeiten der offenen Sprechstunden für die digitale Beratung für Drittstaatsangehörige und Migrant*innen bei unserem Kooperationspartner vkii ruhrbezirk e.V.
URL:https://dabei-digital.de/kalender/offene-sprechstunde-vkii-ruhrbezirk-e-v-26/
LOCATION:vkii ruhrbezirk e.V.\, Emil-Moog-Platz 7\, Dortmund\, 44137
CATEGORIES:Sprechstunde
ORGANIZER;CN="vkii ruhrbezirk e.V.":MAILTO:m.ayossa@vkii-ruhrbezirk.de
END:VEVENT
BEGIN:VEVENT
DTSTART;TZID=UTC:20260226T140000
DTEND;TZID=UTC:20260226T153000
DTSTAMP:20260421T162834
CREATED:20260105T094622Z
LAST-MODIFIED:20260223T114624Z
UID:10000257-1772114400-1772119800@dabei-digital.de
SUMMARY:Workshop für Drittstaatsangehörige: Digitale Identität und Online-Reputation
DESCRIPTION:Was zeigen deine Online-Profile über dich? In diesem Workshop schauen wir uns Beispiele aus Social Media an und sprechen über Chancen und Risiken digitaler Sichtbarkeit. Du reflektierst deine eigenen Profile\, lernst\, worauf es ankommt\, und erarbeitest gemeinsam Leitlinien für einen sicheren und bewussten Umgang mit der eigenen Online-Reputation. \nBitte melde dich vorher per E-Mail an: dabeidigital@vmdo.de
URL:https://dabei-digital.de/kalender/workshop-fuer-drittstaatsangehoerige-digitale-identitaet-und-online-reputation/
LOCATION:vkii ruhrbezirk e.V.\, Emil-Moog-Platz 7\, Dortmund\, 44137
CATEGORIES:Workshop
ORGANIZER;CN="vkii ruhrbezirk e.V.":MAILTO:m.ayossa@vkii-ruhrbezirk.de
END:VEVENT
END:VCALENDAR