BEGIN:VCALENDAR
VERSION:2.0
PRODID:-//Dabei.digital - ECPv6.15.20//NONSGML v1.0//EN
CALSCALE:GREGORIAN
METHOD:PUBLISH
X-ORIGINAL-URL:https://dabei-digital.de
X-WR-CALDESC:Veranstaltungen für Dabei.digital
REFRESH-INTERVAL;VALUE=DURATION:PT1H
X-Robots-Tag:noindex
X-PUBLISHED-TTL:PT1H
BEGIN:VTIMEZONE
TZID:UTC
BEGIN:STANDARD
TZOFFSETFROM:+0000
TZOFFSETTO:+0000
TZNAME:UTC
DTSTART:20250101T000000
END:STANDARD
END:VTIMEZONE
BEGIN:VEVENT
DTSTART;TZID=UTC:20260217T110000
DTEND;TZID=UTC:20260217T130000
DTSTAMP:20260419T191154
CREATED:20260114T111750Z
LAST-MODIFIED:20260114T111750Z
UID:10000305-1771326000-1771333200@dabei-digital.de
SUMMARY:Offene Sprechstunde: Haus der Vielfalt
DESCRIPTION:Unsere offene Sprechstunde für die digitale Beratung für Drittstaatsangehörige und Migrant*innen im Haus der Vielfalt.
URL:https://dabei-digital.de/kalender/offene-sprechstunde-haus-der-vielfalt-40/
LOCATION:Haus der Vielfalt\, Zur Vielfalt 21\, Dortmund\, 44147\, Germany
ORGANIZER;CN="dabei.digital":MAILTO:dabeidigital@vmdo.de
END:VEVENT
BEGIN:VEVENT
DTSTART;TZID=UTC:20260217T113000
DTEND;TZID=UTC:20260217T133000
DTSTAMP:20260419T191154
CREATED:20260114T110409Z
LAST-MODIFIED:20260114T110409Z
UID:10000294-1771327800-1771335000@dabei-digital.de
SUMMARY:Offene Sprechstunde: vkii ruhrbezirk e.V.
DESCRIPTION:Unsere Öffnungszeiten der offenen Sprechstunden für die digitale Beratung für Drittstaatsangehörige und Migrant*innen bei unserem Kooperationspartner vkii ruhrbezirk e.V.
URL:https://dabei-digital.de/kalender/offene-sprechstunde-vkii-ruhrbezirk-e-v-20/
LOCATION:vkii ruhrbezirk e.V.\, Emil-Moog-Platz 7\, Dortmund\, 44137
ORGANIZER;CN="vkii ruhrbezirk e.V.":MAILTO:m.ayossa@vkii-ruhrbezirk.de
END:VEVENT
BEGIN:VEVENT
DTSTART;TZID=UTC:20260217T183000
DTEND;TZID=UTC:20260217T200000
DTSTAMP:20260419T191154
CREATED:20251202T095350Z
LAST-MODIFIED:20251202T095350Z
UID:10000241-1771353000-1771358400@dabei-digital.de
SUMMARY:Workshop für Migrant*innenorganisationen: Social Media Planung mit Excel
DESCRIPTION:Du willst deine Posts besser strukturieren und endlich den Überblick behalten? In diesem Workshop lernst du\, wie du mit einer einfachen Excel-Vorlage deinen Social-Media-Plan übersichtlich erstellst\, Beiträge koordinierst und stressfreier arbeitest.\nPraktisch\, verständlich und sofort nutzbar damit deine Online-Präsenz gut geplant und entspannt bleibt. \nDer Workshop richtet sich an Haupt- und Ehrenamtliche in Migrant*innenorganisationen. \nBitte melde dich vorher per E-Mail an: l.villieras-guepey@vmdo.de
URL:https://dabei-digital.de/kalender/workshop-fuer-migrantinnenorganisationen-social-media-planung-mit-excel/
LOCATION:Projekträume Leuthardstraße\, Leuthardstraße 1\, Dortmund\, 44135\, Germany
ORGANIZER;CN="dabei.digital":MAILTO:dabeidigital@vmdo.de
END:VEVENT
END:VCALENDAR