BEGIN:VCALENDAR
VERSION:2.0
PRODID:-//Dabei.digital - ECPv6.15.20//NONSGML v1.0//EN
CALSCALE:GREGORIAN
METHOD:PUBLISH
X-WR-CALNAME:Dabei.digital
X-ORIGINAL-URL:https://dabei-digital.de
X-WR-CALDESC:Veranstaltungen für Dabei.digital
REFRESH-INTERVAL;VALUE=DURATION:PT1H
X-Robots-Tag:noindex
X-PUBLISHED-TTL:PT1H
BEGIN:VTIMEZONE
TZID:UTC
BEGIN:STANDARD
TZOFFSETFROM:+0000
TZOFFSETTO:+0000
TZNAME:UTC
DTSTART:20250101T000000
END:STANDARD
END:VTIMEZONE
BEGIN:VEVENT
DTSTART;TZID=UTC:20260209T110000
DTEND;TZID=UTC:20260209T130000
DTSTAMP:20260419T142106
CREATED:20260114T105924Z
LAST-MODIFIED:20260114T110100Z
UID:10000289-1770634800-1770642000@dabei-digital.de
SUMMARY:Offene Sprechstunde: Projekträume Leuthardstraße
DESCRIPTION:Unsere Öffnungszeiten der offenen Sprechstunden für die digitale Beratung für Drittstaatsangehörige und Migrant*innen im Projektraum in der Leuthardstraße.
URL:https://dabei-digital.de/kalender/offene-sprechstunde-projektraeume-leuthardstrasse-19/
LOCATION:Projekträume Leuthardstraße\, Leuthardstraße 1\, Dortmund\, 44135\, Germany
ORGANIZER;CN="dabei.digital":MAILTO:dabeidigital@vmdo.de
END:VEVENT
BEGIN:VEVENT
DTSTART;TZID=UTC:20260209T173000
DTEND;TZID=UTC:20260209T200000
DTSTAMP:20260419T142106
CREATED:20260129T085256Z
LAST-MODIFIED:20260129T094607Z
UID:10000318-1770658200-1770667200@dabei-digital.de
SUMMARY:Webseitensprechstunde für Migrant*innenorganisationen
DESCRIPTION:Du hast Probleme mit der Website deines Vereines? In unserer Webseitensprechstunde helfen wir dir in einer einstündigen Beratung ganz unkompliziert und gehen direkt auf deine Fragen ein. Egal ob es um Inhalte\, Struktur\, Technik oder kleine Probleme im Hintergrund geht: Komm einfach mit deiner Website vorbei\, und wir schauen gemeinsam drauf. Du bekommst sofort praktische Hilfe und Tipps\, damit deine Seite genau so funktioniert\, wie du es brauchst. \nDer Termin ist ausgebucht\, vielen Dank für euer Interesse!
URL:https://dabei-digital.de/kalender/webseitensprechstunde-fuer-migrantinnenorganisationen-3/
LOCATION:Projekträume Leuthardstraße\, Leuthardstraße 1\, Dortmund\, 44135\, Germany
ORGANIZER;CN="dabei.digital":MAILTO:dabeidigital@vmdo.de
END:VEVENT
END:VCALENDAR