BEGIN:VCALENDAR
VERSION:2.0
PRODID:-//Dabei.digital - ECPv6.15.20//NONSGML v1.0//EN
CALSCALE:GREGORIAN
METHOD:PUBLISH
X-ORIGINAL-URL:https://dabei-digital.de
X-WR-CALDESC:Veranstaltungen für Dabei.digital
REFRESH-INTERVAL;VALUE=DURATION:PT1H
X-Robots-Tag:noindex
X-PUBLISHED-TTL:PT1H
BEGIN:VTIMEZONE
TZID:UTC
BEGIN:STANDARD
TZOFFSETFROM:+0000
TZOFFSETTO:+0000
TZNAME:UTC
DTSTART:20250101T000000
END:STANDARD
END:VTIMEZONE
BEGIN:VEVENT
DTSTART;TZID=UTC:20260205T110000
DTEND;TZID=UTC:20260205T123000
DTSTAMP:20260419T185903
CREATED:20251215T095824Z
LAST-MODIFIED:20251215T095824Z
UID:10000250-1770289200-1770294600@dabei-digital.de
SUMMARY:Workshop für Drittstaatsangehörige: Grafik mit Canva erstellen
DESCRIPTION:Du möchtest ansprechende Flyer\, Plakate oder Postings für Instagram und Co. selbst gestalten und das ohne Vorkenntnisse? In diesem Workshop lernst du die Online-Plattform Canva kennen. Gemeinsam entdecken wir\, wie du mit einfachen Vorlagen und Werkzeugen Schritt für Schritt eigene Designs erstellen kannst. \nEgal ob für private Projekte\, Vereine oder Social Media – mit Canva wird Grafikgestaltung leicht gemacht! \nBitte melde dich vorher per E-Mail an: dabeidigital@vmdo.de
URL:https://dabei-digital.de/kalender/workshop-fuer-drittstaatsangehoerige-grafik-mit-canva-erstellen-2/
LOCATION:Haus der Vielfalt\, Zur Vielfalt 21\, Dortmund\, 44147\, Germany
ORGANIZER;CN="dabei.digital":MAILTO:dabeidigital@vmdo.de
END:VEVENT
BEGIN:VEVENT
DTSTART;TZID=UTC:20260205T110000
DTEND;TZID=UTC:20260205T130000
DTSTAMP:20260419T185903
CREATED:20260114T111118Z
LAST-MODIFIED:20260114T111118Z
UID:10000302-1770289200-1770296400@dabei-digital.de
SUMMARY:Offene Sprechstunde: Haus der Vielfalt
DESCRIPTION:Unsere offene Sprechstunde für die digitale Beratung für Drittstaatsangehörige und Migrant*innen im Haus der Vielfalt.
URL:https://dabei-digital.de/kalender/offene-sprechstunde-haus-der-vielfalt-37/
LOCATION:Haus der Vielfalt\, Zur Vielfalt 21\, Dortmund\, 44147\, Germany
ORGANIZER;CN="dabei.digital":MAILTO:dabeidigital@vmdo.de
END:VEVENT
BEGIN:VEVENT
DTSTART;TZID=UTC:20260205T113000
DTEND;TZID=UTC:20260205T133000
DTSTAMP:20260419T185903
CREATED:20260114T110558Z
LAST-MODIFIED:20260114T110558Z
UID:10000296-1770291000-1770298200@dabei-digital.de
SUMMARY:Offene Sprechstunde: vkii ruhrbezirk e.V.
DESCRIPTION:Unsere Öffnungszeiten der offenen Sprechstunden für die digitale Beratung für Drittstaatsangehörige und Migrant*innen bei unserem Kooperationspartner vkii ruhrbezirk e.V.
URL:https://dabei-digital.de/kalender/offene-sprechstunde-vkii-ruhrbezirk-e-v-22/
LOCATION:vkii ruhrbezirk e.V.\, Emil-Moog-Platz 7\, Dortmund\, 44137
ORGANIZER;CN="vkii ruhrbezirk e.V.":MAILTO:m.ayossa@vkii-ruhrbezirk.de
END:VEVENT
BEGIN:VEVENT
DTSTART;TZID=UTC:20260205T140000
DTEND;TZID=UTC:20260205T153000
DTSTAMP:20260419T185903
CREATED:20260105T093840Z
LAST-MODIFIED:20260106T091948Z
UID:10000252-1770300000-1770305400@dabei-digital.de
SUMMARY:Workshop für Drittstaatsangehörige: Termine online buchen
DESCRIPTION:Möchtest du lernen\, wie du Behördentermine online vereinbarst und Formulare sicher herunter- oder hochlädst? In dieser Workshopreihe zeigen wir dir\, wie du das Bürgerportal richtig nutzt und wichtige Schritte digital erledigst. So sparst du Zeit – und gewinnst mehr Sicherheit im Umgang mit Online-Behörden. \n  \nBitte melde dich vorher per E-Mail an: dabeidigital@vmdo.de
URL:https://dabei-digital.de/kalender/workshop-fuer-drittstaatsangehoerige-termine-online-buchen-3/
LOCATION:vkii ruhrbezirk e.V.\, Emil-Moog-Platz 7\, Dortmund\, 44137
ORGANIZER;CN="vkii ruhrbezirk e.V.":MAILTO:m.ayossa@vkii-ruhrbezirk.de
END:VEVENT
END:VCALENDAR