BEGIN:VCALENDAR
VERSION:2.0
PRODID:-//Dabei.digital - ECPv6.15.20//NONSGML v1.0//EN
CALSCALE:GREGORIAN
METHOD:PUBLISH
X-ORIGINAL-URL:https://dabei-digital.de
X-WR-CALDESC:Veranstaltungen für Dabei.digital
REFRESH-INTERVAL;VALUE=DURATION:PT1H
X-Robots-Tag:noindex
X-PUBLISHED-TTL:PT1H
BEGIN:VTIMEZONE
TZID:UTC
BEGIN:STANDARD
TZOFFSETFROM:+0000
TZOFFSETTO:+0000
TZNAME:UTC
DTSTART:20250101T000000
END:STANDARD
END:VTIMEZONE
BEGIN:VEVENT
DTSTART;TZID=UTC:20260204T130000
DTEND;TZID=UTC:20260204T170000
DTSTAMP:20260419T173819
CREATED:20260114T112140Z
LAST-MODIFIED:20260114T112140Z
UID:10000310-1770210000-1770224400@dabei-digital.de
SUMMARY:Offene Sprechstunde: DAKME e.V.
DESCRIPTION:Unsere Öffnungszeiten der offenen Sprechstunden für die digitale Beratung für Drittstaatsangehörige und Migrant*innen bei unserem Kooperationspartner DAKME e.V.
URL:https://dabei-digital.de/kalender/offene-sprechstunde-dakme-e-v-11/
LOCATION:DAKME e.V.\, Körnebachstraße 49-51\, Dortmund\, 44143\, Germany
ORGANIZER;CN="DAKME e.V.":MAILTO:demet.karaca.dakme@gmail.com
END:VEVENT
BEGIN:VEVENT
DTSTART;TZID=UTC:20260204T150000
DTEND;TZID=UTC:20260204T163000
DTSTAMP:20260419T173819
CREATED:20260109T102426Z
LAST-MODIFIED:20260109T102426Z
UID:10000280-1770217200-1770222600@dabei-digital.de
SUMMARY:Workshop für Drittstaatsangehörige: PayPal Konto eröffnen
DESCRIPTION:Du möchtest ein PayPal-Konto eröffnen\, weißt aber nicht genau\, worauf du achten musst? In diesem Workshop zeigen wir dir Schritt für Schritt\, wie du ein PayPal-Konto einrichtest\, sicher nutzt und wichtige Einstellungen vornimmst. Außerdem geben wir praktische Tipps zu Datenschutz\, Zahlungen und Sicherheit damit du PayPal im Alltag und im Verein problemlos einsetzen kannst. \nBitte melde dich vorher per E-Mail an: dabeidigital@vmdo.de
URL:https://dabei-digital.de/kalender/workshop-fuer-drittstaatsangehoerige-paypal-konto-eroeffnen/
LOCATION:DAKME e.V.\, Körnebachstraße 49-51\, Dortmund\, 44143\, Germany
ORGANIZER;CN="DAKME e.V.":MAILTO:demet.karaca.dakme@gmail.com
END:VEVENT
END:VCALENDAR