BEGIN:VCALENDAR
VERSION:2.0
PRODID:-//Dabei.digital - ECPv6.15.20//NONSGML v1.0//EN
CALSCALE:GREGORIAN
METHOD:PUBLISH
X-WR-CALNAME:Dabei.digital
X-ORIGINAL-URL:https://dabei-digital.de
X-WR-CALDESC:Veranstaltungen für Dabei.digital
REFRESH-INTERVAL;VALUE=DURATION:PT1H
X-Robots-Tag:noindex
X-PUBLISHED-TTL:PT1H
BEGIN:VTIMEZONE
TZID:UTC
BEGIN:STANDARD
TZOFFSETFROM:+0000
TZOFFSETTO:+0000
TZNAME:UTC
DTSTART:20250101T000000
END:STANDARD
END:VTIMEZONE
BEGIN:VEVENT
DTSTART;TZID=UTC:20260129T110000
DTEND;TZID=UTC:20260129T130000
DTSTAMP:20260419T155322
CREATED:20260106T100529Z
LAST-MODIFIED:20260106T100529Z
UID:10000264-1769684400-1769691600@dabei-digital.de
SUMMARY:Offene Sprechstunde: Haus der Vielfalt
DESCRIPTION:Unsere offene Sprechstunde für die digitale Beratung für Drittstaatsangehörige und Migrant*innen im Haus der Vielfalt.
URL:https://dabei-digital.de/kalender/offene-sprechstunde-haus-der-vielfalt-34/
LOCATION:Haus der Vielfalt\, Zur Vielfalt 21\, Dortmund\, 44147\, Germany
ORGANIZER;CN="dabei.digital":MAILTO:dabeidigital@vmdo.de
END:VEVENT
BEGIN:VEVENT
DTSTART;TZID=UTC:20260129T113000
DTEND;TZID=UTC:20260129T133000
DTSTAMP:20260419T155322
CREATED:20260114T105618Z
LAST-MODIFIED:20260114T105618Z
UID:10000286-1769686200-1769693400@dabei-digital.de
SUMMARY:Offene Sprechstunde: vkii ruhrbezirk e.V.
DESCRIPTION:Unsere Öffnungszeiten der offenen Sprechstunden für die digitale Beratung für Drittstaatsangehörige und Migrant*innen bei unserem Kooperationspartner vkii ruhrbezirk e.V.
URL:https://dabei-digital.de/kalender/offene-sprechstunde-vkii-ruhrbezirk-e-v-16/
LOCATION:vkii ruhrbezirk e.V.\, Emil-Moog-Platz 7\, Dortmund\, 44137
ORGANIZER;CN="vkii ruhrbezirk e.V.":MAILTO:m.ayossa@vkii-ruhrbezirk.de
END:VEVENT
BEGIN:VEVENT
DTSTART;TZID=UTC:20260129T140000
DTEND;TZID=UTC:20260129T153000
DTSTAMP:20260419T155322
CREATED:20251215T095733Z
LAST-MODIFIED:20251215T095733Z
UID:10000249-1769695200-1769700600@dabei-digital.de
SUMMARY:Workshop für Drittstaatsangehörige: Foto & Videobearbeitung mit Handy
DESCRIPTION:Möchtest du lernen\, wie du mit deinem Smartphone beeindruckende Fotos und Videos erstellen kannst? In diesem Workshop zeigen wir dir einfache Bearbeitungstechniken\, hilfreiche Apps und kreative Tricks\, mit denen du deine Aufnahmen professionell aussehen lässt. So kannst du besondere Momente festhalten – und deine eigenen Medien selbstbewusst gestalten. \nBitte melde dich vorher per E-Mail an: dabeidigital@vmdo.de
URL:https://dabei-digital.de/kalender/workshop-fuer-drittstaatsangehoerige-foto-videobearbeitung-mit-handy/
LOCATION:Haus der Vielfalt\, Zur Vielfalt 21\, Dortmund\, 44147\, Germany
ORGANIZER;CN="dabei.digital":MAILTO:dabeidigital@vmdo.de
END:VEVENT
BEGIN:VEVENT
DTSTART;TZID=UTC:20260129T140000
DTEND;TZID=UTC:20260129T153000
DTSTAMP:20260419T155322
CREATED:20260105T094344Z
LAST-MODIFIED:20260114T104001Z
UID:10000255-1769695200-1769700600@dabei-digital.de
SUMMARY:Workshopreihe für Drittstaatsangehörige: Nützliche Apps für das Handy
DESCRIPTION:Was kann mein Smartphone eigentlich alles? In diesem Workshop lernst du hilfreiche Apps für den Alltag kennen zum Beispiel die Bahn-App\, WhatsApp\, Sparkasse\, Google Maps\, Shazam oder Flaschenpost. \nWir erklären dir\, wie sie funktionieren und wie du sie sicher nutzen kannst. \nBitte melde dich vorher per E-Mail an: dabeidigital@vmdo.de
URL:https://dabei-digital.de/kalender/workshopreihe-fuer-drittstaatsangehoerige-nuetzliche-apps-fuer-das-handy/
LOCATION:vkii ruhrbezirk e.V.\, Emil-Moog-Platz 7\, Dortmund\, 44137
ORGANIZER;CN="vkii ruhrbezirk e.V.":MAILTO:m.ayossa@vkii-ruhrbezirk.de
END:VEVENT
END:VCALENDAR