BEGIN:VCALENDAR
VERSION:2.0
PRODID:-//Dabei.digital - ECPv6.15.20//NONSGML v1.0//EN
CALSCALE:GREGORIAN
METHOD:PUBLISH
X-ORIGINAL-URL:https://dabei-digital.de
X-WR-CALDESC:Veranstaltungen für Dabei.digital
REFRESH-INTERVAL;VALUE=DURATION:PT1H
X-Robots-Tag:noindex
X-PUBLISHED-TTL:PT1H
BEGIN:VTIMEZONE
TZID:UTC
BEGIN:STANDARD
TZOFFSETFROM:+0000
TZOFFSETTO:+0000
TZNAME:UTC
DTSTART:20250101T000000
END:STANDARD
END:VTIMEZONE
BEGIN:VEVENT
DTSTART;TZID=UTC:20260127T110000
DTEND;TZID=UTC:20260127T130000
DTSTAMP:20260419T155452
CREATED:20260106T100500Z
LAST-MODIFIED:20260106T100500Z
UID:10000263-1769511600-1769518800@dabei-digital.de
SUMMARY:Offene Sprechstunde: Haus der Vielfalt
DESCRIPTION:Unsere offene Sprechstunde für die digitale Beratung für Drittstaatsangehörige und Migrant*innen im Haus der Vielfalt.
URL:https://dabei-digital.de/kalender/offene-sprechstunde-haus-der-vielfalt-33/
LOCATION:Haus der Vielfalt\, Zur Vielfalt 21\, Dortmund\, 44147\, Germany
ORGANIZER;CN="dabei.digital":MAILTO:dabeidigital@vmdo.de
END:VEVENT
BEGIN:VEVENT
DTSTART;TZID=UTC:20260127T113000
DTEND;TZID=UTC:20260127T133000
DTSTAMP:20260419T155452
CREATED:20260106T103803Z
LAST-MODIFIED:20260114T104806Z
UID:10000272-1769513400-1769520600@dabei-digital.de
SUMMARY:Offene Sprechstunde: vkii ruhrbezirk e.V.
DESCRIPTION:Unsere Öffnungszeiten der offenen Sprechstunden für die digitale Beratung für Drittstaatsangehörige und Migrant*innen bei unserem Kooperationspartner vkii ruhrbezirk e.V.
URL:https://dabei-digital.de/kalender/offene-sprechstunde-vkii-ruhrbezirk-e-v-13/
LOCATION:vkii ruhrbezirk e.V.\, Emil-Moog-Platz 7\, Dortmund\, 44137
ORGANIZER;CN="vkii ruhrbezirk e.V.":MAILTO:m.ayossa@vkii-ruhrbezirk.de
END:VEVENT
BEGIN:VEVENT
DTSTART;TZID=UTC:20260127T173000
DTEND;TZID=UTC:20260127T200000
DTSTAMP:20260419T155452
CREATED:20251202T130915Z
LAST-MODIFIED:20260122T122746Z
UID:10000244-1769535000-1769544000@dabei-digital.de
SUMMARY:Webseitensprechstunde für Migrant*innenorganisationen
DESCRIPTION:Du hast Probleme mit der Website deines Vereines? In unserer Webseitensprechstunde helfen wir dir in einer einstündigen Beratung ganz unkompliziert und gehen direkt auf deine Fragen ein. Egal ob es um Inhalte\, Struktur\, Technik oder kleine Probleme im Hintergrund geht: Komm einfach mit deiner Website vorbei\, und wir schauen gemeinsam drauf. Du bekommst sofort praktische Hilfe und Tipps\, damit deine Seite genau so funktioniert\, wie du es brauchst. \n\nDer Termin ist ausgebucht!
URL:https://dabei-digital.de/kalender/webseitensprechstunde-fuer-migrantinnenorganisationen-2/
LOCATION:Projekträume Leuthardstraße\, Leuthardstraße 1\, Dortmund\, 44135\, Germany
ORGANIZER;CN="dabei.digital":MAILTO:dabeidigital@vmdo.de
END:VEVENT
END:VCALENDAR