BEGIN:VCALENDAR
VERSION:2.0
PRODID:-//Dabei.digital - ECPv6.15.20//NONSGML v1.0//EN
CALSCALE:GREGORIAN
METHOD:PUBLISH
X-WR-CALNAME:Dabei.digital
X-ORIGINAL-URL:https://dabei-digital.de
X-WR-CALDESC:Veranstaltungen für Dabei.digital
REFRESH-INTERVAL;VALUE=DURATION:PT1H
X-Robots-Tag:noindex
X-PUBLISHED-TTL:PT1H
BEGIN:VTIMEZONE
TZID:UTC
BEGIN:STANDARD
TZOFFSETFROM:+0000
TZOFFSETTO:+0000
TZNAME:UTC
DTSTART:20250101T000000
END:STANDARD
END:VTIMEZONE
BEGIN:VEVENT
DTSTART;TZID=UTC:20260122T110000
DTEND;TZID=UTC:20260122T123000
DTSTAMP:20260419T171847
CREATED:20251215T095217Z
LAST-MODIFIED:20251215T095406Z
UID:10000247-1769079600-1769085000@dabei-digital.de
SUMMARY:Workshop für Drittstaatsangehörige: Künstliche Intelligenz im Alltag nutzen
DESCRIPTION:Fragst du dich\, wie KI-Tools dir im Alltag helfen können? In diesem Workshop lernst du praktische Anwendungen kennen – von Sprachassistenten über Übersetzungshilfen bis hin zu nützlichen Apps für Organisation und Lernen. So entdeckst du\, wie KI deinen Alltag einfacher macht – und du digitale Technologien selbstbewusst nutzen kannst. \nBitte melde dich vorher per E-Mail an: dabeidigital@vmdo.de
URL:https://dabei-digital.de/kalender/workshop-fuer-drittstaatsangehoerige-kuenstliche-intelligenz-im-alltag-nutzen-3/
LOCATION:Haus der Vielfalt\, Zur Vielfalt 21\, Dortmund\, 44147\, Germany
ORGANIZER;CN="dabei.digital":MAILTO:dabeidigital@vmdo.de
END:VEVENT
BEGIN:VEVENT
DTSTART;TZID=UTC:20260122T110000
DTEND;TZID=UTC:20260122T130000
DTSTAMP:20260419T171847
CREATED:20260106T100248Z
LAST-MODIFIED:20260106T100248Z
UID:10000262-1769079600-1769086800@dabei-digital.de
SUMMARY:Offene Sprechstunde: Haus der Vielfalt
DESCRIPTION:Unsere offene Sprechstunde für die digitale Beratung für Drittstaatsangehörige und Migrant*innen im Haus der Vielfalt.
URL:https://dabei-digital.de/kalender/offene-sprechstunde-haus-der-vielfalt-32/
LOCATION:Haus der Vielfalt\, Zur Vielfalt 21\, Dortmund\, 44147\, Germany
ORGANIZER;CN="dabei.digital":MAILTO:dabeidigital@vmdo.de
END:VEVENT
BEGIN:VEVENT
DTSTART;TZID=UTC:20260122T113000
DTEND;TZID=UTC:20260122T133000
DTSTAMP:20260419T171847
CREATED:20260114T105548Z
LAST-MODIFIED:20260114T105548Z
UID:10000285-1769081400-1769088600@dabei-digital.de
SUMMARY:Offene Sprechstunde: vkii ruhrbezirk e.V.
DESCRIPTION:Unsere Öffnungszeiten der offenen Sprechstunden für die digitale Beratung für Drittstaatsangehörige und Migrant*innen bei unserem Kooperationspartner vkii ruhrbezirk e.V.
URL:https://dabei-digital.de/kalender/offene-sprechstunde-vkii-ruhrbezirk-e-v-15/
LOCATION:vkii ruhrbezirk e.V.\, Emil-Moog-Platz 7\, Dortmund\, 44137
ORGANIZER;CN="vkii ruhrbezirk e.V.":MAILTO:m.ayossa@vkii-ruhrbezirk.de
END:VEVENT
BEGIN:VEVENT
DTSTART;TZID=UTC:20260122T140000
DTEND;TZID=UTC:20260122T153000
DTSTAMP:20260419T171847
CREATED:20260105T094042Z
LAST-MODIFIED:20260114T103917Z
UID:10000254-1769090400-1769095800@dabei-digital.de
SUMMARY:Workshop für Drittstaatsangehörige: Effizient im Internet suchen
DESCRIPTION:Du verbringst zu viel Zeit mit der Suche im Internet? In diesem Workshop schauen wir uns typische Suchprobleme aus dem Alltag an und zeigen dir\, wie du mit den richtigen Suchbegriffen und Filtern schneller ans Ziel kommst.\nIm Praxisteil führst du eigene Recherchen durch\, vergleichst die Ergebnisse gemeinsam in der Gruppe und bekommst hilfreiche Tipps\, um künftig effizienter und gezielter zu suchen. \nBitte melde dich vorher per E-Mail an: dabeidigital@vmdo.de
URL:https://dabei-digital.de/kalender/workshop-fuer-drittstaatsangehoerige-effizient-im-internet-suchen/
LOCATION:vkii ruhrbezirk e.V.\, Emil-Moog-Platz 7\, Dortmund\, 44137
ORGANIZER;CN="vkii ruhrbezirk e.V.":MAILTO:m.ayossa@vkii-ruhrbezirk.de
END:VEVENT
END:VCALENDAR