BEGIN:VCALENDAR
VERSION:2.0
PRODID:-//Dabei.digital - ECPv6.15.20//NONSGML v1.0//EN
CALSCALE:GREGORIAN
METHOD:PUBLISH
X-WR-CALNAME:Dabei.digital
X-ORIGINAL-URL:https://dabei-digital.de
X-WR-CALDESC:Veranstaltungen für Dabei.digital
REFRESH-INTERVAL;VALUE=DURATION:PT1H
X-Robots-Tag:noindex
X-PUBLISHED-TTL:PT1H
BEGIN:VTIMEZONE
TZID:UTC
BEGIN:STANDARD
TZOFFSETFROM:+0000
TZOFFSETTO:+0000
TZNAME:UTC
DTSTART:20250101T000000
END:STANDARD
END:VTIMEZONE
BEGIN:VEVENT
DTSTART;TZID=UTC:20260121T110000
DTEND;TZID=UTC:20260121T123000
DTSTAMP:20260419T155322
CREATED:20251121T110651Z
LAST-MODIFIED:20251202T093912Z
UID:10000230-1768993200-1768998600@dabei-digital.de
SUMMARY:Smartphone Sprechstunde in Kooperation mit GrünBau
DESCRIPTION:Hast du Schwierigkeiten im Umgang mit deinen Smartphone? In Kooperation mit GrünBau helfen wir dabei dein Smartphone richtig zu nutzen.
URL:https://dabei-digital.de/kalender/smartphone-sprechstunde-in-kooperation-mit-gruenbau-6/
LOCATION:GrünBau – Heimathafen\, Speicherstraße 15\, Dortmund\, 44147\, Germany
END:VEVENT
BEGIN:VEVENT
DTSTART;TZID=UTC:20260121T130000
DTEND;TZID=UTC:20260121T170000
DTSTAMP:20260419T155322
CREATED:20260106T104123Z
LAST-MODIFIED:20260106T104123Z
UID:10000275-1769000400-1769014800@dabei-digital.de
SUMMARY:Offene Sprechstunde: DAKME e.V.
DESCRIPTION:Unsere Öffnungszeiten der offenen Sprechstunden für die digitale Beratung für Drittstaatsangehörige und Migrant*innen bei unserem Kooperationspartner DAKME e.V.
URL:https://dabei-digital.de/kalender/offene-sprechstunde-dakme-e-v-9/
LOCATION:DAKME e.V.\, Körnebachstraße 49-51\, Dortmund\, 44143\, Germany
ORGANIZER;CN="DAKME e.V.":MAILTO:demet.karaca.dakme@gmail.com
END:VEVENT
BEGIN:VEVENT
DTSTART;TZID=UTC:20260121T150000
DTEND;TZID=UTC:20260121T163000
DTSTAMP:20260419T155322
CREATED:20260109T102241Z
LAST-MODIFIED:20260109T102241Z
UID:10000278-1769007600-1769013000@dabei-digital.de
SUMMARY:Workshop für Drittstaatsangehörige: Einkauf Apps – Lidl Plus App
DESCRIPTION:Mit der Lidl-Plus-App kannst du sparen und Angebote digital nutzen – aber wie funktioniert das genau? In diesem Workshop zeigen wir dir Schritt für Schritt\, wie du die App einrichtest\, Coupons aktivierst und sie sicher im Alltag verwendest. Außerdem sprechen wir über Datenschutz und geben praktische Tipps für den entspannten Einsatz beim Einkaufen. \nBitte melde dich vorher per E-Mail an: dabeidigital@vmdo.de
URL:https://dabei-digital.de/kalender/workshop-fuer-drittstaatsangehoerige-einkauf-apps-lidl-plus-app/
LOCATION:DAKME e.V.\, Körnebachstraße 49-51\, Dortmund\, 44143\, Germany
ORGANIZER;CN="DAKME e.V.":MAILTO:demet.karaca.dakme@gmail.com
END:VEVENT
END:VCALENDAR