BEGIN:VCALENDAR
VERSION:2.0
PRODID:-//Dabei.digital - ECPv6.15.20//NONSGML v1.0//EN
CALSCALE:GREGORIAN
METHOD:PUBLISH
X-WR-CALNAME:Dabei.digital
X-ORIGINAL-URL:https://dabei-digital.de
X-WR-CALDESC:Veranstaltungen für Dabei.digital
REFRESH-INTERVAL;VALUE=DURATION:PT1H
X-Robots-Tag:noindex
X-PUBLISHED-TTL:PT1H
BEGIN:VTIMEZONE
TZID:UTC
BEGIN:STANDARD
TZOFFSETFROM:+0000
TZOFFSETTO:+0000
TZNAME:UTC
DTSTART:20250101T000000
END:STANDARD
END:VTIMEZONE
BEGIN:VEVENT
DTSTART;TZID=UTC:20260114T110000
DTEND;TZID=UTC:20260114T123000
DTSTAMP:20260419T155328
CREATED:20251202T093630Z
LAST-MODIFIED:20251202T093630Z
UID:10000235-1768388400-1768393800@dabei-digital.de
SUMMARY:Smartphone Sprechstunde in Kooperation mit GrünBau
DESCRIPTION:Hast du Schwierigkeiten im Umgang mit deinen Smartphone? In Kooperation mit GrünBau helfen wir dabei dein Smartphone richtig zu nutzen.
URL:https://dabei-digital.de/kalender/smartphone-sprechstunde-in-kooperation-mit-gruenbau-11/
LOCATION:GrünBau – Heimathafen\, Speicherstraße 15\, Dortmund\, 44147\, Germany
ORGANIZER;CN="dabei.digital":MAILTO:dabeidigital@vmdo.de
END:VEVENT
BEGIN:VEVENT
DTSTART;TZID=UTC:20260114T130000
DTEND;TZID=UTC:20260114T170000
DTSTAMP:20260419T155328
CREATED:20260106T104042Z
LAST-MODIFIED:20260106T104042Z
UID:10000274-1768395600-1768410000@dabei-digital.de
SUMMARY:Offene Sprechstunde: DAKME e.V.
DESCRIPTION:Unsere Öffnungszeiten der offenen Sprechstunden für die digitale Beratung für Drittstaatsangehörige und Migrant*innen bei unserem Kooperationspartner DAKME e.V.
URL:https://dabei-digital.de/kalender/offene-sprechstunde-dakme-e-v-8/
LOCATION:DAKME e.V.\, Körnebachstraße 49-51\, Dortmund\, 44143\, Germany
ORGANIZER;CN="DAKME e.V.":MAILTO:demet.karaca.dakme@gmail.com
END:VEVENT
BEGIN:VEVENT
DTSTART;TZID=UTC:20260114T150000
DTEND;TZID=UTC:20260114T163000
DTSTAMP:20260419T155328
CREATED:20260109T102157Z
LAST-MODIFIED:20260109T102157Z
UID:10000277-1768402800-1768408200@dabei-digital.de
SUMMARY:Workshop für Drittstaatsangehörige: Social Medien sicher nutzen – Instagram
DESCRIPTION:WhatsApp gehört zum Alltag\, doch wie nutzt du es sicher? In diesem Workshop schauen wir uns wichtige Einstellungen\, Datenschutz-Optionen und typische Risiken an. Anhand praktischer Beispiele lernst du\, wie du deine Privatsphäre schützt\, Gruppen sicher verwaltest und bewusster mit Nachrichten\, Bildern und Weiterleitungen umgehst. \nBitte melde dich vorher per E-Mail an: dabeidigital@vmdo.de
URL:https://dabei-digital.de/kalender/workshop-fuer-drittstaatsangehoerige-social-medien-sicher-nutzen-instagram/
LOCATION:DAKME e.V.\, Körnebachstraße 49-51\, Dortmund\, 44143\, Germany
ORGANIZER;CN="DAKME e.V.":MAILTO:demet.karaca.dakme@gmail.com
END:VEVENT
END:VCALENDAR