BEGIN:VCALENDAR
VERSION:2.0
PRODID:-//Dabei.digital - ECPv6.15.20//NONSGML v1.0//EN
CALSCALE:GREGORIAN
METHOD:PUBLISH
X-WR-CALNAME:Dabei.digital
X-ORIGINAL-URL:https://dabei-digital.de
X-WR-CALDESC:Veranstaltungen für Dabei.digital
REFRESH-INTERVAL;VALUE=DURATION:PT1H
X-Robots-Tag:noindex
X-PUBLISHED-TTL:PT1H
BEGIN:VTIMEZONE
TZID:UTC
BEGIN:STANDARD
TZOFFSETFROM:+0000
TZOFFSETTO:+0000
TZNAME:UTC
DTSTART:20250101T000000
END:STANDARD
END:VTIMEZONE
BEGIN:VEVENT
DTSTART;TZID=UTC:20260107T110000
DTEND;TZID=UTC:20260107T123000
DTSTAMP:20260419T171848
CREATED:20251202T093554Z
LAST-MODIFIED:20251202T093554Z
UID:10000234-1767783600-1767789000@dabei-digital.de
SUMMARY:Smartphone Sprechstunde in Kooperation mit GrünBau
DESCRIPTION:Hast du Schwierigkeiten im Umgang mit deinen Smartphone? In Kooperation mit GrünBau helfen wir dabei dein Smartphone richtig zu nutzen.
URL:https://dabei-digital.de/kalender/smartphone-sprechstunde-in-kooperation-mit-gruenbau-10/
LOCATION:GrünBau – Heimathafen\, Speicherstraße 15\, Dortmund\, 44147\, Germany
ORGANIZER;CN="dabei.digital":MAILTO:dabeidigital@vmdo.de
END:VEVENT
BEGIN:VEVENT
DTSTART;TZID=UTC:20260107T130000
DTEND;TZID=UTC:20260107T170000
DTSTAMP:20260419T171848
CREATED:20260106T103953Z
LAST-MODIFIED:20260106T103953Z
UID:10000273-1767790800-1767805200@dabei-digital.de
SUMMARY:Offene Sprechstunde: DAKME e.V.
DESCRIPTION:Unsere Öffnungszeiten der offenen Sprechstunden für die digitale Beratung für Drittstaatsangehörige und Migrant*innen bei unserem Kooperationspartner DAKME e.V.
URL:https://dabei-digital.de/kalender/offene-sprechstunde-dakme-e-v-7/
LOCATION:DAKME e.V.\, Körnebachstraße 49-51\, Dortmund\, 44143\, Germany
ORGANIZER;CN="DAKME e.V.":MAILTO:demet.karaca.dakme@gmail.com
END:VEVENT
BEGIN:VEVENT
DTSTART;TZID=UTC:20260107T183000
DTEND;TZID=UTC:20260107T200000
DTSTAMP:20260419T171848
CREATED:20251202T094048Z
LAST-MODIFIED:20251202T094048Z
UID:10000236-1767810600-1767816000@dabei-digital.de
SUMMARY:Workshop für Migrant*innenorganisationen: Website kostenlos erstellen – Teil 2
DESCRIPTION:Möchtest du lernen\, wie du ganz einfach eine eigene Website erstellst – und das kostenlos? In diesem Workshop zeigen wir dir Schritt für Schritt\, wie du mit kostenlosen Online-Tools eine Website gestaltest\, Texte und Bilder einfügst und dein Angebot oder Projekt präsentierst. So kannst du ohne Programmierkenntnisse deine eigene Seite kostenlos ins Netz bringen. \nDer Workshop richtet sich an Haupt- und Ehrenamtliche in Migrant*innenorganisationen. \nBitte melde dich vorher per E-Mail an: f.kirchhoff@vmdo.de
URL:https://dabei-digital.de/kalender/workshop-fuer-migrantinnenorganisationen-website-kostenlos-erstellen-teil-2/
LOCATION:Projekträume Leuthardstraße\, Leuthardstraße 1\, Dortmund\, 44135\, Germany
ORGANIZER;CN="dabei.digital":MAILTO:dabeidigital@vmdo.de
END:VEVENT
END:VCALENDAR