BEGIN:VCALENDAR
VERSION:2.0
PRODID:-//Dabei.digital - ECPv6.15.20//NONSGML v1.0//EN
CALSCALE:GREGORIAN
METHOD:PUBLISH
X-WR-CALNAME:Dabei.digital
X-ORIGINAL-URL:https://dabei-digital.de
X-WR-CALDESC:Veranstaltungen für Dabei.digital
REFRESH-INTERVAL;VALUE=DURATION:PT1H
X-Robots-Tag:noindex
X-PUBLISHED-TTL:PT1H
BEGIN:VTIMEZONE
TZID:UTC
BEGIN:STANDARD
TZOFFSETFROM:+0000
TZOFFSETTO:+0000
TZNAME:UTC
DTSTART:20240101T000000
END:STANDARD
END:VTIMEZONE
BEGIN:VEVENT
DTSTART;TZID=UTC:20251216T110000
DTEND;TZID=UTC:20251216T130000
DTSTAMP:20260419T171913
CREATED:20251111T125521Z
LAST-MODIFIED:20251111T125521Z
UID:10000223-1765882800-1765890000@dabei-digital.de
SUMMARY:Offene Sprechstunde: Haus der Vielfalt
DESCRIPTION:Unsere offene Sprechstunde für die digitale Beratung für Drittstaatsangehörige und Migrant*innen im Haus der Vielfalt.
URL:https://dabei-digital.de/kalender/offene-sprechstunde-haus-der-vielfalt-28/
LOCATION:Haus der Vielfalt\, Zur Vielfalt 21\, Dortmund\, 44147\, Germany
ORGANIZER;CN="dabei.digital":MAILTO:dabeidigital@vmdo.de
END:VEVENT
END:VCALENDAR