BEGIN:VCALENDAR
VERSION:2.0
PRODID:-//Dabei.digital - ECPv6.15.20//NONSGML v1.0//EN
CALSCALE:GREGORIAN
METHOD:PUBLISH
X-WR-CALNAME:Dabei.digital
X-ORIGINAL-URL:https://dabei-digital.de
X-WR-CALDESC:Veranstaltungen für Dabei.digital
REFRESH-INTERVAL;VALUE=DURATION:PT1H
X-Robots-Tag:noindex
X-PUBLISHED-TTL:PT1H
BEGIN:VTIMEZONE
TZID:UTC
BEGIN:STANDARD
TZOFFSETFROM:+0000
TZOFFSETTO:+0000
TZNAME:UTC
DTSTART:20240101T000000
END:STANDARD
END:VTIMEZONE
BEGIN:VEVENT
DTSTART;TZID=UTC:20251207T123000
DTEND;TZID=UTC:20251207T140000
DTSTAMP:20260419T171846
CREATED:20251110T111236Z
LAST-MODIFIED:20251110T111236Z
UID:10000201-1765110600-1765116000@dabei-digital.de
SUMMARY:Workshopreihe für Drittstaatsangehörige: Jobcenter digital
DESCRIPTION:Du möchtest die Angebote des Jobcenters nutzen\, weißt aber nicht genau\, wie? In diesem Workshop zeigen wir dir\, wie du die Jobcenter-App installierst\, dich anmeldest und welche Funktionen dir zur Verfügung stehen. \nKomm vorbei und mach dich fit für die digitale Kommunikation mit dem Jobcenter! \nBitte melde dich vorher per E-Mail an: dabeidigital@vmdo.de
URL:https://dabei-digital.de/kalender/workshopreihe-fuer-drittstaatsangehoerige-jobcenter-digital/
LOCATION:DAKME e.V.\, Körnebachstraße 49-51\, Dortmund\, 44143\, Germany
ORGANIZER;CN="dabei.digital":MAILTO:dabeidigital@vmdo.de
END:VEVENT
END:VCALENDAR