BEGIN:VCALENDAR
VERSION:2.0
PRODID:-//Dabei.digital - ECPv6.15.20//NONSGML v1.0//EN
CALSCALE:GREGORIAN
METHOD:PUBLISH
X-ORIGINAL-URL:https://dabei-digital.de
X-WR-CALDESC:Veranstaltungen für Dabei.digital
REFRESH-INTERVAL;VALUE=DURATION:PT1H
X-Robots-Tag:noindex
X-PUBLISHED-TTL:PT1H
BEGIN:VTIMEZONE
TZID:UTC
BEGIN:STANDARD
TZOFFSETFROM:+0000
TZOFFSETTO:+0000
TZNAME:UTC
DTSTART:20240101T000000
END:STANDARD
END:VTIMEZONE
BEGIN:VEVENT
DTSTART;TZID=UTC:20251203T110000
DTEND;TZID=UTC:20251203T123000
DTSTAMP:20260419T172024
CREATED:20251202T093341Z
LAST-MODIFIED:20251202T093341Z
UID:10000231-1764759600-1764765000@dabei-digital.de
SUMMARY:Smartphone Sprechstunde in Kooperation mit GrünBau
DESCRIPTION:Hast du Schwierigkeiten im Umgang mit deinen Smartphone? In Kooperation mit GrünBau helfen wir dabei dein Smartphone richtig zu nutzen.
URL:https://dabei-digital.de/kalender/smartphone-sprechstunde-in-kooperation-mit-gruenbau-7/
LOCATION:GrünBau – Heimathafen\, Speicherstraße 15\, Dortmund\, 44147\, Germany
ORGANIZER;CN="dabei.digital":MAILTO:dabeidigital@vmdo.de
END:VEVENT
BEGIN:VEVENT
DTSTART;TZID=UTC:20251203T130000
DTEND;TZID=UTC:20251203T170000
DTSTAMP:20260419T172024
CREATED:20251111T123645Z
LAST-MODIFIED:20251111T123645Z
UID:10000210-1764766800-1764781200@dabei-digital.de
SUMMARY:Offene Sprechstunde: DAKME e.V.
DESCRIPTION:Unsere Öffnungszeiten der offenen Sprechstunden für die digitale Beratung für Drittstaatsangehörige und Migrant*innen bei unserem Kooperationspartner DAKME e.V.
URL:https://dabei-digital.de/kalender/offene-sprechstunde-dakme-e-v-4/
LOCATION:DAKME e.V.\, Körnebachstraße 49-51\, Dortmund\, 44143\, Germany
ORGANIZER;CN="dabei.digital":MAILTO:dabeidigital@vmdo.de
END:VEVENT
BEGIN:VEVENT
DTSTART;TZID=UTC:20251203T183000
DTEND;TZID=UTC:20251203T200000
DTSTAMP:20260419T172024
CREATED:20251103T090517Z
LAST-MODIFIED:20251128T101016Z
UID:10000193-1764786600-1764792000@dabei-digital.de
SUMMARY:Workshop für Migrat*innenorganisationen: Spass mit digitalen Quiz - erstellen und einsetzen
DESCRIPTION:In diesem letzten Workshop vor der Weihnachtspause werden wir in einer entspannten und festlichen Atmosphäre die Welt der Online-Quiz entdecken. Welche Plattform sollte man nutzen\, wie kann man ein Online-Quiz animieren und erstellen\, wie kann man Online-Quiz in Vereinsaktivitäten einsetzen? Wir werden gemeinsam Spaß haben und dabei viel Neues lernen! Um dabei zu sein\, melde dich jetzt für diesen Workshop an! \n  \nBitte melde dich vorher per E-Mail an: l.villieras-guepey@vmdo.de
URL:https://dabei-digital.de/kalender/workshop-fuer-migratinnenorganisationen-spass-mit-digitalen-quiz-erstellen-und-einsetzen/
LOCATION:Projekträume Leuthardstraße\, Leuthardstraße 1\, Dortmund\, 44135\, Germany
ORGANIZER;CN="dabei.digital":MAILTO:dabeidigital@vmdo.de
END:VEVENT
END:VCALENDAR