BEGIN:VCALENDAR
VERSION:2.0
PRODID:-//Dabei.digital - ECPv6.15.20//NONSGML v1.0//EN
CALSCALE:GREGORIAN
METHOD:PUBLISH
X-ORIGINAL-URL:https://dabei-digital.de
X-WR-CALDESC:Veranstaltungen für Dabei.digital
REFRESH-INTERVAL;VALUE=DURATION:PT1H
X-Robots-Tag:noindex
X-PUBLISHED-TTL:PT1H
BEGIN:VTIMEZONE
TZID:UTC
BEGIN:STANDARD
TZOFFSETFROM:+0000
TZOFFSETTO:+0000
TZNAME:UTC
DTSTART:20240101T000000
END:STANDARD
END:VTIMEZONE
BEGIN:VEVENT
DTSTART;TZID=UTC:20251126T110000
DTEND;TZID=UTC:20251126T170000
DTSTAMP:20260419T172024
CREATED:20250919T091413Z
LAST-MODIFIED:20250919T091413Z
UID:10000160-1764154800-1764176400@dabei-digital.de
SUMMARY:Offene Sprechstunde: DAKME e.V.
DESCRIPTION:Unsere Öffnungszeiten der offenen Sprechstunden für die digitale Beratung für Drittstaatsangehörige und Migrant*innen bei unserem Kooperationspartner DAKME e.V.
URL:https://dabei-digital.de/kalender/offene-sprechstunde-dakme-e-v-3/
LOCATION:DAKME e.V.\, Körnebachstraße 49-51\, Dortmund\, 44143\, Germany
ORGANIZER;CN="DAKME e.V.":MAILTO:demet.karaca.dakme@gmail.com
END:VEVENT
BEGIN:VEVENT
DTSTART;TZID=UTC:20251126T163000
DTEND;TZID=UTC:20251126T180000
DTSTAMP:20260419T172024
CREATED:20251110T110550Z
LAST-MODIFIED:20251110T110550Z
UID:10000200-1764174600-1764180000@dabei-digital.de
SUMMARY:Workshop für Drittstaatsangehörige: Soziale Netzwerke verstehen
DESCRIPTION:Möchtest du besser verstehen\, wie soziale Netzwerke funktionieren?\nIn diesem Workshop erfährst du Schritt für Schritt\, wie Plattformen wie Facebook\, Instagram oder TikTok genutzt werden\, welche Chancen sie bieten und worauf du beim Datenschutz achten solltest. \nGemeinsam besprechen wir auch\, wie man seriöse Informationen erkennt und sich sicher in sozialen Netzwerken bewegt. \nAnmeldung bitte unter: dabeidigital@vmdo.de
URL:https://dabei-digital.de/kalender/workshop-fuer-drittstaatsangehoerige-soziale-netzwerke-verstehen-2/
LOCATION:DAKME e.V.\, Körnebachstraße 49-51\, Dortmund\, 44143\, Germany
ORGANIZER;CN="dabei.digital":MAILTO:dabeidigital@vmdo.de
END:VEVENT
END:VCALENDAR