BEGIN:VCALENDAR
VERSION:2.0
PRODID:-//Dabei.digital - ECPv6.15.20//NONSGML v1.0//EN
CALSCALE:GREGORIAN
METHOD:PUBLISH
X-WR-CALNAME:Dabei.digital
X-ORIGINAL-URL:https://dabei-digital.de
X-WR-CALDESC:Veranstaltungen für Dabei.digital
REFRESH-INTERVAL;VALUE=DURATION:PT1H
X-Robots-Tag:noindex
X-PUBLISHED-TTL:PT1H
BEGIN:VTIMEZONE
TZID:UTC
BEGIN:STANDARD
TZOFFSETFROM:+0000
TZOFFSETTO:+0000
TZNAME:UTC
DTSTART:20240101T000000
END:STANDARD
END:VTIMEZONE
BEGIN:VEVENT
DTSTART;TZID=UTC:20251113T110000
DTEND;TZID=UTC:20251113T130000
DTSTAMP:20260419T171912
CREATED:20250919T091935Z
LAST-MODIFIED:20250919T091943Z
UID:10000164-1763031600-1763038800@dabei-digital.de
SUMMARY:Offene Sprechstunde: Haus der Vielfalt
DESCRIPTION:Unsere offene Sprechstunde für die digitale Beratung für Drittstaatsangehörige und Migrant*innen im Haus der Vielfalt.
URL:https://dabei-digital.de/kalender/offene-sprechstunde-haus-der-vielfalt-30-oktober-1100-1300/
LOCATION:Haus der Vielfalt\, Zur Vielfalt 21\, Dortmund\, 44147\, Germany
ORGANIZER;CN="dabei.digital":MAILTO:dabeidigital@vmdo.de
END:VEVENT
BEGIN:VEVENT
DTSTART;TZID=UTC:20251113T113000
DTEND;TZID=UTC:20251113T150000
DTSTAMP:20260419T171912
CREATED:20250919T093317Z
LAST-MODIFIED:20250919T093317Z
UID:10000172-1763033400-1763046000@dabei-digital.de
SUMMARY:Offene Sprechstunde: vkii ruhrbezirk e.V.
DESCRIPTION:Unsere Öffnungszeiten der offenen Sprechstunden für die digitale Beratung für Drittstaatsangehörige und Migrant*innen bei unserem Kooperationspartner vkii ruhrbezirk e.V.
URL:https://dabei-digital.de/kalender/offene-sprechstunde-vkii-ruhrbezirk-e-v-5/
LOCATION:vkii ruhrbezirk e.V.\, Emil-Moog-Platz 7\, Dortmund\, 44137
ORGANIZER;CN="vkii ruhrbezirk e.V.":MAILTO:m.ayossa@vkii-ruhrbezirk.de
END:VEVENT
BEGIN:VEVENT
DTSTART;TZID=UTC:20251113T140000
DTEND;TZID=UTC:20251113T153000
DTSTAMP:20260419T171912
CREATED:20250925T115234Z
LAST-MODIFIED:20250925T120256Z
UID:10000184-1763042400-1763047800@dabei-digital.de
SUMMARY:Workshop für Drittstaatsangehörige: Grafik mit Canva erstellen
DESCRIPTION:Du möchtest ansprechende Flyer\, Plakate oder Postings für Instagram und Co. selbst gestalten – und das ohne Vorkenntnisse? In diesem Workshop lernst du die Online-Plattform Canva kennen. Gemeinsam entdecken wir\, wie du mit einfachen Vorlagen und Werkzeugen Schritt für Schritt eigene Designs erstellen kannst.Egal ob für private Projekte\, Vereine oder Social Media – mit Canva wird Grafikgestaltung leicht gemacht! \nBitte melde dich vorher per E-Mail an: dabeidigital@vmdo.de
URL:https://dabei-digital.de/kalender/workshop-fuer-drittstaatsangehoerige-grafik-mit-canva-erstellen/
LOCATION:Haus der Vielfalt\, Zur Vielfalt 21\, Dortmund\, 44147\, Germany
ORGANIZER;CN="dabei.digital":MAILTO:dabeidigital@vmdo.de
END:VEVENT
END:VCALENDAR