BEGIN:VCALENDAR
VERSION:2.0
PRODID:-//Dabei.digital - ECPv6.15.20//NONSGML v1.0//EN
CALSCALE:GREGORIAN
METHOD:PUBLISH
X-WR-CALNAME:Dabei.digital
X-ORIGINAL-URL:https://dabei-digital.de
X-WR-CALDESC:Veranstaltungen für Dabei.digital
REFRESH-INTERVAL;VALUE=DURATION:PT1H
X-Robots-Tag:noindex
X-PUBLISHED-TTL:PT1H
BEGIN:VTIMEZONE
TZID:UTC
BEGIN:STANDARD
TZOFFSETFROM:+0000
TZOFFSETTO:+0000
TZNAME:UTC
DTSTART:20240101T000000
END:STANDARD
END:VTIMEZONE
BEGIN:VEVENT
DTSTART;TZID=UTC:20251112T110000
DTEND;TZID=UTC:20251112T123000
DTSTAMP:20260419T171913
CREATED:20250911T070429Z
LAST-MODIFIED:20250911T070429Z
UID:10000127-1762945200-1762950600@dabei-digital.de
SUMMARY:Workshop für Drittstaatsangehörige in Kooperation mit GrünBau: jobcenter digital und BUND-ID
DESCRIPTION:Hast du Schwierigkeiten bei der Nutzung von Jobcenter digital oder bei der Anmeldung mit der BundID?In diesem Workshop lernst du Schritt für Schritt\, wie du dich sicher anmeldest\, Unterlagen online einreichst und wichtige Funktionen von Jobcenter digital nutzt. Außerdem zeigen wir dir\, wie die BundID funktioniert und dir den Zugang zu vielen Online-Services erleichtert. \nBei Interesse melde dich bitte unter mjoellenbeck@gruenbau-dortmund.de für die Veranstaltung an!
URL:https://dabei-digital.de/kalender/workshop-fuer-drittstaatsangehoerige-in-kooperation-mit-gruenbau-jobcenter-digital-und-bund-id/
LOCATION:GrünBau – Heimathafen\, Speicherstraße 15\, Dortmund\, 44147\, Germany
ORGANIZER;CN="dabei.digital":MAILTO:dabeidigital@vmdo.de
END:VEVENT
BEGIN:VEVENT
DTSTART;TZID=UTC:20251112T123000
DTEND;TZID=UTC:20251112T143000
DTSTAMP:20260419T171913
CREATED:20251027T102033Z
LAST-MODIFIED:20251027T102033Z
UID:10000190-1762950600-1762957800@dabei-digital.de
SUMMARY:Workshop für Drittstaatsangehörige: Einkaufen im Internet
DESCRIPTION:Möchtest du sicher und gezielt im Internet einkaufen?In diesem Workshop lernst du Schritt für Schritt\, wie du Online-Shops findest\, Produkte vergleichst\, sicher bezahlst und erkennst\, ob ein Angebot vertrauenswürdig ist. \nAußerdem bekommst du hilfreiche Tipps zum Schutz deiner Daten und zur Vermeidung von Betrug. \nAnmeldung bitte unter: dabeidigital@vmdo.de \n 
URL:https://dabei-digital.de/kalender/workshop-fuer-drittstaatsangehoerige-einkaufen-im-internet/
LOCATION:vkii ruhrbezirk e.V.\, Emil-Moog-Platz 7\, Dortmund\, 44137
ORGANIZER;CN="dabei.digital":MAILTO:dabeidigital@vmdo.de
END:VEVENT
BEGIN:VEVENT
DTSTART;TZID=UTC:20251112T130000
DTEND;TZID=UTC:20251112T170000
DTSTAMP:20260419T171913
CREATED:20250919T091130Z
LAST-MODIFIED:20250919T091143Z
UID:10000158-1762952400-1762966800@dabei-digital.de
SUMMARY:Offene Sprechstunde: DAKME e.V.
DESCRIPTION:Unsere Öffnungszeiten der offenen Sprechstunden für die digitale Beratung für Drittstaatsangehörige und Migrant*innen bei unserem Kooperationspartner DAKME e.V.
URL:https://dabei-digital.de/kalender/offene-sprechstunde-dakme-e-v/
LOCATION:DAKME e.V.\, Körnebachstraße 49-51\, Dortmund\, 44143\, Germany
ORGANIZER;CN="dabei.digital":MAILTO:dabeidigital@vmdo.de
END:VEVENT
BEGIN:VEVENT
DTSTART;TZID=UTC:20251112T163000
DTEND;TZID=UTC:20251112T180000
DTSTAMP:20260419T171913
CREATED:20251110T110337Z
LAST-MODIFIED:20251110T110337Z
UID:10000198-1762965000-1762970400@dabei-digital.de
SUMMARY:Workshopreihe für Drittstaatsangehörige: Bürgerdienste - Terminvereinbarung
DESCRIPTION:Du willst einen Arzttermin vereinbaren oder einen Termin beim Bürgeramt in Dortmund buchen? In diesem Workshop zeigen wir dir Schritt für Schritt\, wie du online Termine vereinbaren kannst – schnell und einfach vom Handy oder Computer aus. \nWir begleiten dich beim Ausprobieren! \nBitte melde dich vorher per E-Mail an: dabeidigital@vmdo.de
URL:https://dabei-digital.de/kalender/workshopreihe-fuer-drittstaatsangehoerige-buergerdienste-terminvereinbarung/
LOCATION:DAKME e.V.\, Körnebachstraße 49-51\, Dortmund\, 44143\, Germany
ORGANIZER;CN="dabei.digital":MAILTO:dabeidigital@vmdo.de
END:VEVENT
END:VCALENDAR