BEGIN:VCALENDAR
VERSION:2.0
PRODID:-//Dabei.digital - ECPv6.15.20//NONSGML v1.0//EN
CALSCALE:GREGORIAN
METHOD:PUBLISH
X-WR-CALNAME:Dabei.digital
X-ORIGINAL-URL:https://dabei-digital.de
X-WR-CALDESC:Veranstaltungen für Dabei.digital
REFRESH-INTERVAL;VALUE=DURATION:PT1H
X-Robots-Tag:noindex
X-PUBLISHED-TTL:PT1H
BEGIN:VTIMEZONE
TZID:UTC
BEGIN:STANDARD
TZOFFSETFROM:+0000
TZOFFSETTO:+0000
TZNAME:UTC
DTSTART:20240101T000000
END:STANDARD
END:VTIMEZONE
BEGIN:VEVENT
DTSTART;TZID=UTC:20251105T130000
DTEND;TZID=UTC:20251105T170000
DTSTAMP:20260419T171914
CREATED:20250828T104337Z
LAST-MODIFIED:20250909T085117Z
UID:10000099-1762347600-1762362000@dabei-digital.de
SUMMARY:Offene Sprechstunde: DAKME e.V.
DESCRIPTION:Unsere Öffnungszeiten der offenen Sprechstunden für die digitale Beratung für Drittstaatsangehörige und Migrant*innen bei unserem Kooperationspartner DAKME e.V.
URL:https://dabei-digital.de/kalender/offene-sprechstunde-damke-e-v-12/
LOCATION:DAKME e.V.\, Körnebachstraße 49-51\, Dortmund\, 44143\, Germany
ORGANIZER;CN="DAKME e.V.":MAILTO:demet.karaca.dakme@gmail.com
END:VEVENT
BEGIN:VEVENT
DTSTART;TZID=UTC:20251105T163000
DTEND;TZID=UTC:20251105T180000
DTSTAMP:20260419T171914
CREATED:20251110T110215Z
LAST-MODIFIED:20251110T110215Z
UID:10000197-1762360200-1762365600@dabei-digital.de
SUMMARY:Workshopreihe für Drittstaatsangehörige: Google Maps Navigation
DESCRIPTION:Möchtest du lernen\, wie du dich mit Google Maps sicher und einfach zurechtfindest?In diesem Workshop zeigen wir dir Schritt für Schritt\, wie du Routen planst\, öffentliche Verkehrsmittel nutzt\, Orte speicherst und dich mit dem Smartphone navigieren lässt. Außerdem erfährst du\, wie du Bewertungen liest und eigene Lieblingsorte hinzufügst. \nAnmeldung bitte unter: dabeidigital@vmdo.de
URL:https://dabei-digital.de/kalender/workshopreihe-fuer-drittstaatsangehoerige-google-maps-navigation/
LOCATION:DAKME e.V.\, Körnebachstraße 49-51\, Dortmund\, 44143\, Germany
ORGANIZER;CN="dabei.digital":MAILTO:dabeidigital@vmdo.de
END:VEVENT
END:VCALENDAR