BEGIN:VCALENDAR
VERSION:2.0
PRODID:-//Dabei.digital - ECPv6.15.20//NONSGML v1.0//EN
CALSCALE:GREGORIAN
METHOD:PUBLISH
X-WR-CALNAME:Dabei.digital
X-ORIGINAL-URL:https://dabei-digital.de
X-WR-CALDESC:Veranstaltungen für Dabei.digital
REFRESH-INTERVAL;VALUE=DURATION:PT1H
X-Robots-Tag:noindex
X-PUBLISHED-TTL:PT1H
BEGIN:VTIMEZONE
TZID:UTC
BEGIN:STANDARD
TZOFFSETFROM:+0000
TZOFFSETTO:+0000
TZNAME:UTC
DTSTART:20240101T000000
END:STANDARD
END:VTIMEZONE
BEGIN:VEVENT
DTSTART;TZID=UTC:20251103T110000
DTEND;TZID=UTC:20251103T123000
DTSTAMP:20260419T171912
CREATED:20250925T114218Z
LAST-MODIFIED:20250925T114218Z
UID:10000178-1762167600-1762173000@dabei-digital.de
SUMMARY:Workshop für Drittstaatsangehörige: Nützliche Apps für das Handy
DESCRIPTION:Was kann mein Smartphone eigentlich alles? In diesem Workshop lernst du hilfreiche Apps für den Alltag kennen – zum Beispiel die Bahn-App\, WhatsApp\, Sparkasse\, Google Maps\, Shazam oder Flaschenpost.Wir erklären dir\, wie sie funktionieren und wie du sie sicher nutzen kannst. \nBitte melde dich vorher per E-Mail an: dabeidigital@vmdo.de
URL:https://dabei-digital.de/kalender/workshop-fuer-drittstaatsangehoerige-nuetzliche-apps-fuer-das-handy-3/
LOCATION:Haus der Vielfalt\, Zur Vielfalt 21\, Dortmund\, 44147\, Germany
ORGANIZER;CN="dabei.digital":MAILTO:dabeidigital@vmdo.de
END:VEVENT
BEGIN:VEVENT
DTSTART;TZID=UTC:20251103T110000
DTEND;TZID=UTC:20251103T130000
DTSTAMP:20260419T171912
CREATED:20250919T090259Z
LAST-MODIFIED:20250919T090259Z
UID:10000154-1762167600-1762174800@dabei-digital.de
SUMMARY:Offene Sprechstunde: Projekträume Leuthardstraße
DESCRIPTION:Unsere Öffnungszeiten der offenen Sprechstunden für die digitale Beratung für Drittstaatsangehörige und Migrant*innen im Projektraum in der Leuthardstraße.
URL:https://dabei-digital.de/kalender/offene-sprechstunde-projektraeume-leuthardstrasse-4/
LOCATION:Projekträume Leuthardstraße\, Leuthardstraße 1\, Dortmund\, 44135\, Germany
ORGANIZER;CN="dabei.digital":MAILTO:dabeidigital@vmdo.de
END:VEVENT
END:VCALENDAR