BEGIN:VCALENDAR
VERSION:2.0
PRODID:-//Dabei.digital - ECPv6.15.20//NONSGML v1.0//EN
CALSCALE:GREGORIAN
METHOD:PUBLISH
X-ORIGINAL-URL:https://dabei-digital.de
X-WR-CALDESC:Veranstaltungen für Dabei.digital
REFRESH-INTERVAL;VALUE=DURATION:PT1H
X-Robots-Tag:noindex
X-PUBLISHED-TTL:PT1H
BEGIN:VTIMEZONE
TZID:UTC
BEGIN:STANDARD
TZOFFSETFROM:+0000
TZOFFSETTO:+0000
TZNAME:UTC
DTSTART:20240101T000000
END:STANDARD
END:VTIMEZONE
BEGIN:VEVENT
DTSTART;TZID=UTC:20251024T150000
DTEND;TZID=UTC:20251024T170000
DTSTAMP:20260419T202714
CREATED:20250901T100541Z
LAST-MODIFIED:20250902T085146Z
UID:10000118-1761318000-1761325200@dabei-digital.de
SUMMARY:Workshopreihe für Drittstaatsangehörige: Digital Storytelling & Video-Editing
DESCRIPTION:In dieser kostenlosen Workshopreihe lernst du\, wie du Storyboards erstellst\, mit dem Smartphone drehst und Videos mit CapCut\, DaVinci Resolve oder Adobe schneidest. \nMach mit – zeige der Welt\, was in dir steckt! \nAnmeldung bitte unter: dabeidigital@vmdo.de
URL:https://dabei-digital.de/kalender/workshopreihe-fuer-drittstaatsangehoerige-digital-storytelling-video-editing/
LOCATION:vkii ruhrbezirk e.V.\, Emil-Moog-Platz 7\, Dortmund\, 44137
ORGANIZER;CN="vkii ruhrbezirk e.V.":MAILTO:m.ayossa@vkii-ruhrbezirk.de
END:VEVENT
END:VCALENDAR