BEGIN:VCALENDAR
VERSION:2.0
PRODID:-//Dabei.digital - ECPv6.15.20//NONSGML v1.0//EN
CALSCALE:GREGORIAN
METHOD:PUBLISH
X-WR-CALNAME:Dabei.digital
X-ORIGINAL-URL:https://dabei-digital.de
X-WR-CALDESC:Veranstaltungen für Dabei.digital
REFRESH-INTERVAL;VALUE=DURATION:PT1H
X-Robots-Tag:noindex
X-PUBLISHED-TTL:PT1H
BEGIN:VTIMEZONE
TZID:UTC
BEGIN:STANDARD
TZOFFSETFROM:+0000
TZOFFSETTO:+0000
TZNAME:UTC
DTSTART:20240101T000000
END:STANDARD
END:VTIMEZONE
BEGIN:VEVENT
DTSTART;TZID=UTC:20251016T110000
DTEND;TZID=UTC:20251016T130000
DTSTAMP:20260419T185722
CREATED:20250828T103448Z
LAST-MODIFIED:20250828T103448Z
UID:10000091-1760612400-1760619600@dabei-digital.de
SUMMARY:Offene Sprechstunde: Haus der Vielfalt
DESCRIPTION:Unsere offene Sprechstunde für die digitale Beratung für Drittstaatsangehörige und Migrant*innen im Haus der Vielfalt.
URL:https://dabei-digital.de/kalender/offene-sprechstunde-haus-der-vielfalt-16/
LOCATION:Haus der Vielfalt\, Zur Vielfalt 21\, Dortmund\, 44147\, Germany
ORGANIZER;CN="dabei.digital":MAILTO:dabeidigital@vmdo.de
END:VEVENT
BEGIN:VEVENT
DTSTART;TZID=UTC:20251016T113000
DTEND;TZID=UTC:20251016T150000
DTSTAMP:20260419T185722
CREATED:20250828T104925Z
LAST-MODIFIED:20250909T085603Z
UID:10000106-1760614200-1760626800@dabei-digital.de
SUMMARY:Offene Sprechstunde: vkii ruhrbezirk e.V.
DESCRIPTION:Unsere Öffnungszeiten der offenen Sprechstunden für die digitale Beratung für Drittstaatsangehörige und Migrant*innen bei unserem Kooperationspartner vkii ruhrbezirk e.V.
URL:https://dabei-digital.de/kalender/offenen-sprechstunde-vkii-ruhrbezirk-e-v-19/
LOCATION:vkii ruhrbezirk e.V.\, Emil-Moog-Platz 7\, Dortmund\, 44137
ORGANIZER;CN="vkii ruhrbezirk e.V.":MAILTO:m.ayossa@vkii-ruhrbezirk.de
END:VEVENT
BEGIN:VEVENT
DTSTART;TZID=UTC:20251016T140000
DTEND;TZID=UTC:20251016T153000
DTSTAMP:20260419T185722
CREATED:20250925T114459Z
LAST-MODIFIED:20250925T114459Z
UID:10000180-1760623200-1760628600@dabei-digital.de
SUMMARY:Workshop für Drittstaatsangehörige: Jobcenter digital
DESCRIPTION:Du möchtest die Angebote des Jobcenters nutzen\, weißt aber nicht genau\, wie? In diesem Workshop zeigen wir dir\, wie du die Jobcenter-App installierst\, dich anmeldest und welche Funktionen dir zur Verfügung stehen. \nKomm vorbei und mach dich fit für die digitale Kommunikation mit dem Jobcenter! \nAnmeldung bitte unter: dabeidigital@vmdo.de
URL:https://dabei-digital.de/kalender/workshop-fuer-drittstaatsangehoerige-jobcenter-digital-3/
LOCATION:Haus der Vielfalt\, Zur Vielfalt 21\, Dortmund\, 44147\, Germany
ORGANIZER;CN="dabei.digital":MAILTO:dabeidigital@vmdo.de
END:VEVENT
END:VCALENDAR