BEGIN:VCALENDAR
VERSION:2.0
PRODID:-//Dabei.digital - ECPv6.15.20//NONSGML v1.0//EN
CALSCALE:GREGORIAN
METHOD:PUBLISH
X-WR-CALNAME:Dabei.digital
X-ORIGINAL-URL:https://dabei-digital.de
X-WR-CALDESC:Veranstaltungen für Dabei.digital
REFRESH-INTERVAL;VALUE=DURATION:PT1H
X-Robots-Tag:noindex
X-PUBLISHED-TTL:PT1H
BEGIN:VTIMEZONE
TZID:UTC
BEGIN:STANDARD
TZOFFSETFROM:+0000
TZOFFSETTO:+0000
TZNAME:UTC
DTSTART:20240101T000000
END:STANDARD
END:VTIMEZONE
BEGIN:VEVENT
DTSTART;TZID=UTC:20251013T110000
DTEND;TZID=UTC:20251013T123000
DTSTAMP:20260419T185721
CREATED:20250925T114111Z
LAST-MODIFIED:20250925T114111Z
UID:10000177-1760353200-1760358600@dabei-digital.de
SUMMARY:Workshop für Drittstaatsangehörige: Nützliche Apps für das Handy
DESCRIPTION:Was kann mein Smartphone eigentlich alles? In diesem Workshop lernst du hilfreiche Apps für den Alltag kennen – zum Beispiel die Bahn-App\, WhatsApp\, Sparkasse\, Google Maps\, Shazam oder Flaschenpost.Wir erklären dir\, wie sie funktionieren und wie du sie sicher nutzen kannst. \nBitte melde dich vorher per E-Mail an: dabeidigital@vmdo.de
URL:https://dabei-digital.de/kalender/workshop-fuer-drittstaatsangehoerige-nuetzliche-apps-fuer-das-handy-2/
LOCATION:Haus der Vielfalt\, Zur Vielfalt 21\, Dortmund\, 44147\, Germany
ORGANIZER;CN="dabei.digital":MAILTO:dabeidigital@vmdo.de
END:VEVENT
END:VCALENDAR