BEGIN:VCALENDAR
VERSION:2.0
PRODID:-//Dabei.digital - ECPv6.15.20//NONSGML v1.0//EN
CALSCALE:GREGORIAN
METHOD:PUBLISH
X-ORIGINAL-URL:https://dabei-digital.de
X-WR-CALDESC:Veranstaltungen für Dabei.digital
REFRESH-INTERVAL;VALUE=DURATION:PT1H
X-Robots-Tag:noindex
X-PUBLISHED-TTL:PT1H
BEGIN:VTIMEZONE
TZID:UTC
BEGIN:STANDARD
TZOFFSETFROM:+0000
TZOFFSETTO:+0000
TZNAME:UTC
DTSTART:20240101T000000
END:STANDARD
END:VTIMEZONE
BEGIN:VEVENT
DTSTART;TZID=UTC:20251010T150000
DTEND;TZID=UTC:20251010T170000
DTSTAMP:20260419T185901
CREATED:20250901T100128Z
LAST-MODIFIED:20250901T100128Z
UID:10000117-1760108400-1760115600@dabei-digital.de
SUMMARY:Workshopreihe für Drittstaatsangehörige: Grundlagen des Programmierens
DESCRIPTION:Interessierst du dich für Programmieren\, hast aber noch keine Erfahrung? In dieser Workshopreihe erhältst du eine interaktive Einführung mit Java. Du lernst die wichtigsten Grundlagen kennen und schreibst deine ersten eigenen Programme. \nSo entdeckst du Schritt für Schritt die Welt des Programmierens – und baust eine solide Basis für deine digitale Zukunft. \nAnmeldung bitte unter: dabeidigital@vmdo.de
URL:https://dabei-digital.de/kalender/workshopreihe-fuer-drittstaatsangehoerige-grundlagen-des-programmierens/
LOCATION:vkii ruhrbezirk e.V.\, Emil-Moog-Platz 7\, Dortmund\, 44137
ORGANIZER;CN="dabei.digital":MAILTO:dabeidigital@vmdo.de
END:VEVENT
END:VCALENDAR