BEGIN:VCALENDAR
VERSION:2.0
PRODID:-//Dabei.digital - ECPv6.15.20//NONSGML v1.0//EN
CALSCALE:GREGORIAN
METHOD:PUBLISH
X-WR-CALNAME:Dabei.digital
X-ORIGINAL-URL:https://dabei-digital.de
X-WR-CALDESC:Veranstaltungen für Dabei.digital
REFRESH-INTERVAL;VALUE=DURATION:PT1H
X-Robots-Tag:noindex
X-PUBLISHED-TTL:PT1H
BEGIN:VTIMEZONE
TZID:UTC
BEGIN:STANDARD
TZOFFSETFROM:+0000
TZOFFSETTO:+0000
TZNAME:UTC
DTSTART:20240101T000000
END:STANDARD
END:VTIMEZONE
BEGIN:VEVENT
DTSTART;TZID=UTC:20251001T093000
DTEND;TZID=UTC:20251001T120000
DTSTAMP:20260419T185723
CREATED:20250911T093913Z
LAST-MODIFIED:20250911T093913Z
UID:10000129-1759311000-1759320000@dabei-digital.de
SUMMARY:Workshop für Migrant*innenorgnisationen in Kooperation mit Lokal Willkommen Mengede-Huckarde: Vonovia App
DESCRIPTION:Arbeitest du in einer Migrant*innenorganisation und möchtest wissen\, wie die Vonovia App genutzt werden kann?In diesem Workshop lernst du Schritt für Schritt\, wie du dich anmeldest\, Reparaturen meldest\, Nebenkostenabrechnungen einsehen und wichtige Informationen rund um die Wohnung digital abrufen kannst. So kannst du dein Wissen anschließend in deiner Organisation weitergeben und Menschen bei der Nutzung der App unterstützen. \nDie Veranstaltung ist inzwischen bereits ausgebucht – vielen Dank für euer großes Interesse!
URL:https://dabei-digital.de/kalender/workshop-fuer-migrantinnenorgnisationen-in-kooperation-mit-lokal-willkommen-mengede-huckarde-vonovia-app/
LOCATION:Lokal Willkommen Mengede Huckarde\, Westerfilder Str. 21\, Do
ORGANIZER;CN="dabei.digital":MAILTO:dabeidigital@vmdo.de
END:VEVENT
BEGIN:VEVENT
DTSTART;TZID=UTC:20251001T110000
DTEND;TZID=UTC:20251001T123000
DTSTAMP:20260419T185723
CREATED:20250911T065040Z
LAST-MODIFIED:20250911T065040Z
UID:10000124-1759316400-1759321800@dabei-digital.de
SUMMARY:Workshop für Drittstaatsangehörige in Kooperation mit GrünBau: Übersetzungs Apps und ChatGPT
DESCRIPTION:Möchtest du wissen\, wie Übersetzungs-Apps oder ChatGPT dir den Alltag erleichtern können?In diesem Workshop erfährst du Schritt für Schritt\, wie du Übersetzungs-Apps sicher einsetzt\, Texte und Gespräche in verschiedene Sprachen überträgst und wie dir ChatGPT beim Formulieren\, Nachschlagen und Lernen helfen kann. \nBei Interesse melde dich bitte unter mjoellenbeck@gruenbau-dortmund.de für die Veranstaltung an!
URL:https://dabei-digital.de/kalender/workshop-fuer-drittstaatsangehoerige-in-kooperation-mit-gruenbau-uebersetzungs-apps-und-chatgpt/
LOCATION:GrünBau – Heimathafen\, Speicherstraße 15\, Dortmund\, 44147\, Germany
ORGANIZER;CN="dabei.digital":MAILTO:dabeidigital@vmdo.de
END:VEVENT
BEGIN:VEVENT
DTSTART;TZID=UTC:20251001T130000
DTEND;TZID=UTC:20251001T170000
DTSTAMP:20260419T185723
CREATED:20250828T103836Z
LAST-MODIFIED:20250909T085325Z
UID:10000094-1759323600-1759338000@dabei-digital.de
SUMMARY:Offene Sprechstunde: DAKME e.V.
DESCRIPTION:Unsere Öffnungszeiten der offenen Sprechstunden für die digitale Beratung für Drittstaatsangehörige und Migrant*innen bei unserem Kooperationspartner DAKME e.V.
URL:https://dabei-digital.de/kalender/offene-sprechstunde-damke-e-v-7/
LOCATION:DAKME e.V.\, Körnebachstraße 49-51\, Dortmund\, 44143\, Germany
ORGANIZER;CN="DAKME e.V.":MAILTO:demet.karaca.dakme@gmail.com
END:VEVENT
BEGIN:VEVENT
DTSTART;TZID=UTC:20251001T163000
DTEND;TZID=UTC:20251001T180000
DTSTAMP:20260419T185723
CREATED:20250828T101422Z
LAST-MODIFIED:20250828T101422Z
UID:10000077-1759336200-1759341600@dabei-digital.de
SUMMARY:Workshopreihe für Drittstaatsangehörige: Social Media sicher nutzen
DESCRIPTION:Fragst du dich\, wie du soziale Netzwerke wie Facebook\, Instagram oder WhatsApp sicher verwenden kannst? In dieser Workshopreihe zeigen wir dir\, wie du deine Privatsphäre schützt\, Fake-Nachrichten erkennst und Social Media sinnvoll für dich nutzt. \nSo bleibst du gut vernetzt – und gehst selbstbewusst und sicher durch die digitale Welt. \nBitte melde dich vorher per E-Mail an: dabeidigital@vmdo.de
URL:https://dabei-digital.de/kalender/workshopreihe-fuer-drittstaatsangehoerige-social-media-sicher-nutzen-3/
LOCATION:DAKME e.V.\, Körnebachstraße 49-51\, Dortmund\, 44143\, Germany
ORGANIZER;CN="dabei.digital":MAILTO:dabeidigital@vmdo.de
END:VEVENT
END:VCALENDAR