BEGIN:VCALENDAR
VERSION:2.0
PRODID:-//Dabei.digital - ECPv6.15.20//NONSGML v1.0//EN
CALSCALE:GREGORIAN
METHOD:PUBLISH
X-ORIGINAL-URL:https://dabei-digital.de
X-WR-CALDESC:Veranstaltungen für Dabei.digital
REFRESH-INTERVAL;VALUE=DURATION:PT1H
X-Robots-Tag:noindex
X-PUBLISHED-TTL:PT1H
BEGIN:VTIMEZONE
TZID:UTC
BEGIN:STANDARD
TZOFFSETFROM:+0000
TZOFFSETTO:+0000
TZNAME:UTC
DTSTART:20240101T000000
END:STANDARD
END:VTIMEZONE
BEGIN:VEVENT
DTSTART;TZID=UTC:20250922T110000
DTEND;TZID=UTC:20250922T120000
DTSTAMP:20260419T230838
CREATED:20250819T061518Z
LAST-MODIFIED:20250819T081657Z
UID:10000016-1758538800-1758542400@dabei-digital.de
SUMMARY:Workshop für Drittstaatsangehörige: Jobcenter digital
DESCRIPTION:Du möchtest die Angebote des Jobcenters nutzen\, weißt aber nicht genau\, wie? In diesem Workshop zeigen wir\, wie du die Jobcenter-App installierst\, dich anmeldest und welche Funktionen dir zur Verfügung stehen. \n\nKomm vorbei und mach dich fit für die digitale Kommunikation mit dem Jobcenter! \n\nAnmeldung bitte unter: dabeidigital@vmdo.de
URL:https://dabei-digital.de/kalender/workshop-fuer-drittstaatsangehoerige-jobcenter-digital-2/
LOCATION:Haus der Vielfalt\, Zur Vielfalt 21\, Dortmund\, 44147\, Germany
ORGANIZER;CN="dabei.digital":MAILTO:dabeidigital@vmdo.de
END:VEVENT
BEGIN:VEVENT
DTSTART;TZID=UTC:20250922T110000
DTEND;TZID=UTC:20250922T130000
DTSTAMP:20260419T230838
CREATED:20250819T073418Z
LAST-MODIFIED:20250819T073418Z
UID:10000045-1758538800-1758546000@dabei-digital.de
SUMMARY:Offene Sprechstunde: Projekträume Leuthardstraße
DESCRIPTION:Unsere Öffnungszeiten der offenen Sprechstunden für die digitale Beratung für Drittstaatsangehörige und Migrant*innen im Projektraum in der Leuthardstraße.
URL:https://dabei-digital.de/kalender/offene-sprechstunde-projektraeume-leuthardstrasse-5/
LOCATION:Projekträume Leuthardstraße\, Leuthardstraße 1\, Dortmund\, 44135\, Germany
ORGANIZER;CN="dabei.digital":MAILTO:dabeidigital@vmdo.de
END:VEVENT
END:VCALENDAR