BEGIN:VCALENDAR
VERSION:2.0
PRODID:-//Dabei.digital - ECPv6.15.20//NONSGML v1.0//EN
CALSCALE:GREGORIAN
METHOD:PUBLISH
X-WR-CALNAME:Dabei.digital
X-ORIGINAL-URL:https://dabei-digital.de
X-WR-CALDESC:Veranstaltungen für Dabei.digital
REFRESH-INTERVAL;VALUE=DURATION:PT1H
X-Robots-Tag:noindex
X-PUBLISHED-TTL:PT1H
BEGIN:VTIMEZONE
TZID:UTC
BEGIN:STANDARD
TZOFFSETFROM:+0000
TZOFFSETTO:+0000
TZNAME:UTC
DTSTART:20240101T000000
END:STANDARD
END:VTIMEZONE
BEGIN:VEVENT
DTSTART;TZID=UTC:20250916T110000
DTEND;TZID=UTC:20250916T130000
DTSTAMP:20260420T035231
CREATED:20250819T070602Z
LAST-MODIFIED:20250819T070602Z
UID:10000036-1758020400-1758027600@dabei-digital.de
SUMMARY:Offene Sprechstunde: Haus der Vielfalt
DESCRIPTION:Unsere offene Sprechstunde für die digitale Beratung für Drittstaatsangehörige und Migrant*innen im Haus der Vielfalt.
URL:https://dabei-digital.de/kalender/offene-sprechstunde-haus-der-vielfalt-8/
LOCATION:Haus der Vielfalt\, Zur Vielfalt 21\, Dortmund\, 44147\, Germany
ORGANIZER;CN="dabei.digital":MAILTO:dabeidigital@vmdo.de
END:VEVENT
BEGIN:VEVENT
DTSTART;TZID=UTC:20250916T113000
DTEND;TZID=UTC:20250916T133000
DTSTAMP:20260420T035231
CREATED:20250828T095204Z
LAST-MODIFIED:20250903T072200Z
UID:10000065-1758022200-1758029400@dabei-digital.de
SUMMARY:Workshop für Drittstaatsangehörige: Jobcenter digital Part 1
DESCRIPTION:Du möchtest die Angebote des Jobcenters nutzen\, weißt aber nicht genau\, wie? In diesem Workshop zeigen wir dir\, wie du die Jobcenter-App installierst\, dich anmeldest und welche Funktionen dir zur Verfügung stehen. \nKomm vorbei und mach dich fit für die digitale Kommunikation mit dem Jobcenter! \nAnmeldung bitte unter: dabeidigital@vmdo.de
URL:https://dabei-digital.de/kalender/workshop-fuer-drittstaatsangehoerige-jobcenter-digital-koeln-part-1/
LOCATION:DTVK e.V.\, Abendrothstraße 20\, Köln\, 50769
ORGANIZER;CN="dabei.digital":MAILTO:dabeidigital@vmdo.de
END:VEVENT
BEGIN:VEVENT
DTSTART;TZID=UTC:20250916T113000
DTEND;TZID=UTC:20250916T150000
DTSTAMP:20260420T035231
CREATED:20250819T074706Z
LAST-MODIFIED:20250909T085658Z
UID:10000058-1758022200-1758034800@dabei-digital.de
SUMMARY:Offene Sprechstunde: vkii ruhrbezirk e.V.
DESCRIPTION:Unsere Öffnungszeiten der offenen Sprechstunden für die digitale Beratung für Drittstaatsangehörige und Migrant*innen bei unserem Kooperationspartner vkii ruhrbezirk e.V.
URL:https://dabei-digital.de/kalender/offenen-sprechstunde-vkii-ruhrbezirk-e-v-8/
LOCATION:vkii ruhrbezirk e.V.\, Emil-Moog-Platz 7\, Dortmund\, 44137
ORGANIZER;CN="vkii ruhrbezirk e.V.":MAILTO:m.ayossa@vkii-ruhrbezirk.de
END:VEVENT
BEGIN:VEVENT
DTSTART;TZID=UTC:20250916T113000
DTEND;TZID=UTC:20250916T150000
DTSTAMP:20260420T035231
CREATED:20250819T074739Z
LAST-MODIFIED:20250909T085655Z
UID:10000059-1758022200-1758034800@dabei-digital.de
SUMMARY:Offene Sprechstunde: vkii ruhrbezirk e.V.
DESCRIPTION:Unsere Öffnungszeiten der offenen Sprechstunden für die digitale Beratung für Drittstaatsangehörige und Migrant*innen bei unserem Kooperationspartner vkii ruhrbezirk e.V.
URL:https://dabei-digital.de/kalender/offenen-sprechstunde-vkii-ruhrbezirk-e-v-9/
LOCATION:vkii ruhrbezirk e.V.\, Emil-Moog-Platz 7\, Dortmund\, 44137
ORGANIZER;CN="vkii ruhrbezirk e.V.":MAILTO:m.ayossa@vkii-ruhrbezirk.de
END:VEVENT
BEGIN:VEVENT
DTSTART;TZID=UTC:20250916T140000
DTEND;TZID=UTC:20250916T160000
DTSTAMP:20260420T035231
CREATED:20250902T085442Z
LAST-MODIFIED:20250904T031747Z
UID:10000120-1758031200-1758038400@dabei-digital.de
SUMMARY:Workshop für Drittstaatsangehörige: Online Behördengänge
DESCRIPTION:Möchtest du lernen\, wie du Behördentermine online vereinbarst und Formulare sicher herunter- oder hochlädst? In dieser Workshopreihe zeigen wir dir\, wie du das Bürgerportal richtig nutzt und wichtige Schritte digital erledigst. \nSo sparst du Zeit – und gewinnst mehr Sicherheit im Umgang mit Online-Behörden. \nBitte melde dich vorher per E-Mail an: dabeidigital@vmdo.de
URL:https://dabei-digital.de/kalender/workshop-fuer-drittstaatsangehoerige-online-behoerdengaenge/
LOCATION:vkii ruhrbezirk e.V.\, Emil-Moog-Platz 7\, Dortmund\, 44137
ORGANIZER;CN="dabei.digital":MAILTO:dabeidigital@vmdo.de
END:VEVENT
END:VCALENDAR