BEGIN:VCALENDAR
VERSION:2.0
PRODID:-//Dabei.digital - ECPv6.15.20//NONSGML v1.0//EN
CALSCALE:GREGORIAN
METHOD:PUBLISH
X-WR-CALNAME:Dabei.digital
X-ORIGINAL-URL:https://dabei-digital.de
X-WR-CALDESC:Veranstaltungen für Dabei.digital
REFRESH-INTERVAL;VALUE=DURATION:PT1H
X-Robots-Tag:noindex
X-PUBLISHED-TTL:PT1H
BEGIN:VTIMEZONE
TZID:UTC
BEGIN:STANDARD
TZOFFSETFROM:+0000
TZOFFSETTO:+0000
TZNAME:UTC
DTSTART:20240101T000000
END:STANDARD
END:VTIMEZONE
BEGIN:VEVENT
DTSTART;TZID=UTC:20250915T110000
DTEND;TZID=UTC:20250915T120000
DTSTAMP:20260420T035230
CREATED:20250819T061951Z
LAST-MODIFIED:20250819T062734Z
UID:10000019-1757934000-1757937600@dabei-digital.de
SUMMARY:Workshop für Drittstaatsangehörige: Nützliche Apps für das Handy
DESCRIPTION:Was kann mein Smartphone eigentlich alles? In diesem Workshop lernst du hilfreiche Apps für den Alltag kennen – zum Beispiel die Bahn-App\, WhatsApp\, Sparkasse\, Google Maps\, ChatGPT und VRR. \nWir erklären dir\, wie sie funktionieren und wie du sie sicher nutzen kannst. \nOrt: Raum B4 \nBitte melde dich vorher per E-Mail an: dabeidigital@vmdo.de
URL:https://dabei-digital.de/kalender/workshop-fuer-drittstaatsangehoerige-nuetzliche-apps-fuer-das-handy/
LOCATION:Haus der Vielfalt\, Zur Vielfalt 21\, Dortmund\, 44147\, Germany
ORGANIZER;CN="dabei.digital":MAILTO:dabeidigital@vmdo.de
END:VEVENT
BEGIN:VEVENT
DTSTART;TZID=UTC:20250915T110000
DTEND;TZID=UTC:20250915T130000
DTSTAMP:20260420T035230
CREATED:20250819T073342Z
LAST-MODIFIED:20250819T080028Z
UID:10000044-1757934000-1757941200@dabei-digital.de
SUMMARY:Offene Sprechstunde: Projekträume Leuthardstraße
DESCRIPTION:Unsere Öffnungszeiten der offenen Sprechstunden für die digitale Beratung für Drittstaatsangehörige und Migrant*innen im Projektraum in der Leuthardstraße.
URL:https://dabei-digital.de/kalender/projektraeumen-in-der-leuthardstrasse/
LOCATION:Haus der Vielfalt\, Zur Vielfalt 21\, Dortmund\, 44147\, Germany
ORGANIZER;CN="dabei.digital":MAILTO:dabeidigital@vmdo.de
END:VEVENT
END:VCALENDAR