BEGIN:VCALENDAR
VERSION:2.0
PRODID:-//Dabei.digital - ECPv6.15.20//NONSGML v1.0//EN
CALSCALE:GREGORIAN
METHOD:PUBLISH
X-ORIGINAL-URL:https://dabei-digital.de
X-WR-CALDESC:Veranstaltungen für Dabei.digital
REFRESH-INTERVAL;VALUE=DURATION:PT1H
X-Robots-Tag:noindex
X-PUBLISHED-TTL:PT1H
BEGIN:VTIMEZONE
TZID:UTC
BEGIN:STANDARD
TZOFFSETFROM:+0000
TZOFFSETTO:+0000
TZNAME:UTC
DTSTART:20240101T000000
END:STANDARD
END:VTIMEZONE
BEGIN:VEVENT
DTSTART;TZID=UTC:20250907T130000
DTEND;TZID=UTC:20250907T150000
DTSTAMP:20260420T050212
CREATED:20250828T100849Z
LAST-MODIFIED:20250828T100849Z
UID:10000073-1757250000-1757257200@dabei-digital.de
SUMMARY:Workshopreihe für Drittstaatsangehörige: E-Mails verstehen und Konto erstellen
DESCRIPTION:Hast du Schwierigkeiten mit E-Mails oder beim Anlegen eines Online-Kontos? In dieser Workshopreihe lernst du Schritt für Schritt\, E-Mails zu lesen\, zu beantworten und sicher ein eigenes Konto einzurichten.  So wirst du fit für den digitalen Alltag und gewinnst mehr Selbstständigkeit und Sicherheit im Umgang mit E-Mails. \n\nBitte melde dich vorher per E-Mail an: dabeidigital@vmdo.de
URL:https://dabei-digital.de/kalender/workshopreihe-fuer-drittstaatsangehoerige-e-mails-verstehen-und-konto-erstellen/
LOCATION:DAKME e.V.\, Körnebachstraße 49-51\, Dortmund\, 44143\, Germany
ORGANIZER;CN="dabei.digital":MAILTO:dabeidigital@vmdo.de
END:VEVENT
END:VCALENDAR