BEGIN:VCALENDAR
VERSION:2.0
PRODID:-//Dabei.digital - ECPv6.15.20//NONSGML v1.0//EN
CALSCALE:GREGORIAN
METHOD:PUBLISH
X-WR-CALNAME:Dabei.digital
X-ORIGINAL-URL:https://dabei-digital.de
X-WR-CALDESC:Veranstaltungen für Dabei.digital
REFRESH-INTERVAL;VALUE=DURATION:PT1H
X-Robots-Tag:noindex
X-PUBLISHED-TTL:PT1H
BEGIN:VTIMEZONE
TZID:UTC
BEGIN:STANDARD
TZOFFSETFROM:+0000
TZOFFSETTO:+0000
TZNAME:UTC
DTSTART:20240101T000000
END:STANDARD
END:VTIMEZONE
BEGIN:VEVENT
DTSTART;TZID=UTC:20250901T110000
DTEND;TZID=UTC:20250901T130000
DTSTAMP:20260419T205929
CREATED:20250819T073013Z
LAST-MODIFIED:20250819T073013Z
UID:10000042-1756724400-1756731600@dabei-digital.de
SUMMARY:Offene Sprechstunde: Projekträume Leuthardstraße.
DESCRIPTION:Unsere offene Sprechstunde für die digitale Beratung für Drittstaatsangehörige und Migrant*innen in den Projekträumen in der Leuthardstraße.
URL:https://dabei-digital.de/kalender/offene-sprechstunde-projektraeume-leuthardstrasse-3/
LOCATION:Projekträume Leuthardstraße\, Leuthardstraße 1\, Dortmund\, 44135\, Germany
ORGANIZER;CN="dabei.digital":MAILTO:dabeidigital@vmdo.de
END:VEVENT
END:VCALENDAR