BEGIN:VCALENDAR
VERSION:2.0
PRODID:-//Dabei.digital - ECPv6.15.20//NONSGML v1.0//EN
CALSCALE:GREGORIAN
METHOD:PUBLISH
X-WR-CALNAME:Dabei.digital
X-ORIGINAL-URL:https://dabei-digital.de
X-WR-CALDESC:Veranstaltungen für Dabei.digital
REFRESH-INTERVAL;VALUE=DURATION:PT1H
X-Robots-Tag:noindex
X-PUBLISHED-TTL:PT1H
BEGIN:VTIMEZONE
TZID:UTC
BEGIN:STANDARD
TZOFFSETFROM:+0000
TZOFFSETTO:+0000
TZNAME:UTC
DTSTART:20240101T000000
END:STANDARD
END:VTIMEZONE
BEGIN:VEVENT
DTSTART;TZID=UTC:20250827T130000
DTEND;TZID=UTC:20250827T170000
DTSTAMP:20260420T014643
CREATED:20250819T073842Z
LAST-MODIFIED:20250909T085222Z
UID:10000047-1756299600-1756314000@dabei-digital.de
SUMMARY:Offene Sprechstunde: DAKME e.V.
DESCRIPTION:Unsere Öffnungszeiten der offenen Sprechstunden für die digitale Beratung für Drittstaatsangehörige und Migrant*innen bei unserem Kooperationspartner DAKME e.V.
URL:https://dabei-digital.de/kalender/offene-sprechstunde-damke-e-v-2/
LOCATION:DAKME e.V.\, Körnebachstraße 49-51\, Dortmund\, 44143\, Germany
ORGANIZER;CN="DAKME e.V.":MAILTO:demet.karaca.dakme@gmail.com
END:VEVENT
BEGIN:VEVENT
DTSTART;TZID=UTC:20250827T163000
DTEND;TZID=UTC:20250827T180000
DTSTAMP:20260420T014644
CREATED:20250818T113843Z
LAST-MODIFIED:20250909T085105Z
UID:10000002-1756312200-1756317600@dabei-digital.de
SUMMARY:Workshop für Drittstaatsangehörige bei DAKME e.V.: Jobcenter digital
DESCRIPTION:Du möchtest die Angebote des Jobcenters nutzen\, weißt aber nicht genau\, wie? In diesem Workshop zeigen unsere Kooperationspartner von DAKME e.V.\, wie du die Jobcenter-App installierst\, dich anmeldest und welche Funktionen dir zur Verfügung stehen. \n\nKomm vorbei und mach dich fit für die digitale Kommunikation mit dem Jobcenter! \n\nAnmeldung bitte unter: 0155 634 928 61
URL:https://dabei-digital.de/kalender/test/
LOCATION:DAKME e.V.\, Körnebachstraße 49-51\, Dortmund\, 44143\, Germany
ORGANIZER;CN="DAKME e.V.":MAILTO:demet.karaca.dakme@gmail.com
END:VEVENT
END:VCALENDAR