BEGIN:VCALENDAR
VERSION:2.0
PRODID:-//Dabei.digital - ECPv6.15.20//NONSGML v1.0//EN
CALSCALE:GREGORIAN
METHOD:PUBLISH
X-ORIGINAL-URL:https://dabei-digital.de
X-WR-CALDESC:Veranstaltungen für Dabei.digital
REFRESH-INTERVAL;VALUE=DURATION:PT1H
X-Robots-Tag:noindex
X-PUBLISHED-TTL:PT1H
BEGIN:VTIMEZONE
TZID:UTC
BEGIN:STANDARD
TZOFFSETFROM:+0000
TZOFFSETTO:+0000
TZNAME:UTC
DTSTART:20240101T000000
END:STANDARD
END:VTIMEZONE
BEGIN:VEVENT
DTSTART;TZID=UTC:20250820T130000
DTEND;TZID=UTC:20250820T170000
DTSTAMP:20260420T014725
CREATED:20250818T120708Z
LAST-MODIFIED:20250909T085152Z
UID:10000009-1755694800-1755709200@dabei-digital.de
SUMMARY:Offene Sprechstunde: DAKME e.V.
DESCRIPTION:Unsere Öffnungszeiten der offenen Sprechstunden für die digitale Beratung für Drittstaatsangehörige und Migrant*innen bei unserem Kooperationspartner DAKME e.V.
URL:https://dabei-digital.de/kalender/offene-sprechstunde-damke-e-v/
LOCATION:DAKME e.V.\, Körnebachstraße 49-51\, Dortmund\, 44143\, Germany
ORGANIZER;CN="DAKME e.V.":MAILTO:demet.karaca.dakme@gmail.com
END:VEVENT
BEGIN:VEVENT
DTSTART;TZID=UTC:20250820T183000
DTEND;TZID=UTC:20250820T200000
DTSTAMP:20260420T014725
CREATED:20250818T114948Z
LAST-MODIFIED:20250829T084713Z
UID:10000003-1755714600-1755720000@dabei-digital.de
SUMMARY:Workshop für Migrant*innenorganisationen: Digitaler Vereinsalltag
DESCRIPTION:In unserem nächsten Online-Workshop „Digitaler Vereinsalltag“ am 20.08 um 18:30 – 20:00 Uhr wird unsere Projektmitarbeiterin Lara ausgewählte digitalen Instrumente für Vereins- und Projektarbeit vorstellen und auf die Frage eingehen\, was eure Vereine brauchen\, um Organisations- und Projektarbeit durch den Einsatz digitaler Tools effektiver zu gestalten. Teilnehmende Vereine bekommen auf ihre Bedürfnisse angepassten Vorschläge und können anschließend an einer Reihe an Schulungsveranstaltungen teilnehmen. Meldet euch gerne kostenlos über diesen Link für die Zoom Veranstaltung an.
URL:https://dabei-digital.de/kalender/workshop-fuer-migranteninnenorganisationen-digitaler-vereinsalltag/
LOCATION:online
ORGANIZER;CN="dabei.digital":MAILTO:dabeidigital@vmdo.de
END:VEVENT
END:VCALENDAR